Workbook

Sheet Előlap
A2: Az adatszolgáltatás
A3: MEKH azonosítószáma: | B3: VK_GFT-JH_B-SZV
A4: címe: | B4: GFT-Jóváhagyás_Beruházás-Szennyvíz
A5: gyakorisága: | B5: Éves
A6: beszámolási időszak: | B6: 2026-01-01
A7: Tárgyidőszak kezdete | B7: =LEFT(B6,4)+1 -> 2027
A8: Tárgyidőszak vége | B8: =LEFT(B6,4)+10 -> 2036
A9: teljesítésének határideje: | B9: 2026-10-01
A12: Az adatszolgáltató
A13: neve: | B13: BAKONYKARSZT Zrt.
A14: címe: | B14: 8200 Veszprém, Pápai út 41.
A15: MEKH nyilvántartási kódja: | B15: 11338024

Sheet Összesítő
N1: H/1 -- Forrás megnevezése (I. ütem) | AA1: H/2 -- Forrás megnevezése (II. ütem)
A2: Sorszám | B2: Víziközmű-rendszer megnevezése | C2: Víziközmű-rendszer hivatali kódja | D2: ISA | E2: Az érintett ellátásért felelős(ök) megnevezése | F2: Ellátási terület | G2: Ellenőrzés | I2: Tervezett nettó költség [eFt] | J2: A beruházás tervezett nettó költsége a tervezési időszak ütemezése szerint [eFt] - I. ütem | K2: A beruházás tervezett nettó költsége a tervezési időszak ütemezése szerint [eFt] - II. ütem | L2: Az EM rendelet 2. melléklet terhére elszámolni tervezett költség | N2: Használati díj [eFt] | O2: ÉCS [eFt] | P2: Közműfejlesztési hozzájárulás [eFt] | Q2: Egyéb saját forrás [eFt] | R2: Díj [eFt] | S2: VFEA - EM rendelet 1. melléklet | T2: Egyéb állami támogatás [eFt] | U2: Önkormányzati támogatás [eFt] | V2: EU-s támogatás [eFt] | W2: Egyéb támogatás [eFt] | X2: Banki hitel, kötvénykibocsátás [eFt] | Y2: Összesítés [eFt] | AA2: Használati díj [eFt] | AB2: ÉCS [eFt] | AC2: Közműfejlesztési hozzájárulás [eFt] | AD2: Egyéb saját forrás [eFt] | AE2: Díj [eFt] | AF2: VFEA - EM rendelet 1. melléklet | AG2: Egyéb állami támogatás [eFt] | AH2: Önkormányzati támogatás [eFt] | AI2: EU-s támogatás [eFt] | AJ2: Egyéb támogatás [eFt] | AK2: Banki hitel, kötvénykibocsátás [eFt] | AL2: Összesítés [eFt] | AS2: Hány feladat van a rendszeren | AT2: Helyes kitöltések száma | AU2: VAN rövidtávú terv? | AV2: VAN hosszútávú terv?
B3: Víziközmű-rendszer megnevezése | C3: Víziközmű-rendszer hivatali kódja | D3: ISA | E3: Az érintett ellátásért felelős(ök) megnevezése | F3: Ellátási terület | I3: =SUM(I$4:I$13042) -> 1500 | J3: =SUM(J$4:J$13042) -> 0 | K3: =SUM(K$4:K$13042) -> 1500 | L3: =SUM(L$4:L$13042) -> 0 | N3: =SUM(N$4:N$3042) -> 0 | O3: =SUM(O$4:O$3042) -> 0 | P3: =SUM(P$4:P$3042) -> 0 | Q3: =SUM(Q$4:Q$3042) -> 0 | R3: =SUM(R$4:R$3042) -> 0 | S3: =SUM(S$4:S$3042) -> 0 | T3: =SUM(T$4:T$3042) -> 0 | U3: =SUM(U$4:U$3042) -> 0 | ... Y3: =SUM(Y$4:Y$3042) -> 0 | AA3: =SUM(AA$4:AA$3042) -> 0 | AB3: =SUM(AB$4:AB$3042) -> 0 | AC3: =SUM(AC$4:AC$3042) -> 0 | AD3: =SUM(AD$4:AD$3042) -> 0 | AE3: =SUM(AE$4:AE$3042) -> 0 | AF3: =SUM(AF$4:AF$3042) -> 0 | AG3: =SUM(AG$4:AG$3042) -> 0 | AH3: =SUM(AH$4:AH$3042) -> 0 | ... AL3: =SUM(AL$4:AL$3042) -> 0 | AR3: RÖGZÍTVE? | AS3: =SUM(AS$4:AS$3042) -> 2 | AT3: =SUM(AT$4:AT$3042) -> 2 | AU3: új | AV3: új
A4: 404 | B4: Hegyesd szennyvízelvezető és – tisztító víziközmű- rendszer | C4: 21-02422-1-005-00-00 | D4: 1895 | E4: Magyar Állam | F4: Hegyesd, Kapolcs, Monostorapáti, Taliándörögd, Vigántpetend | G4: =IF(ISNA($AR4),"Nincs rögzítve!",IF(AU4=0,"Hiányzik a rövidtávú terv!",IF(AV4=0,"Hiányzik a hosszútávú terv!",IF(AS4=AT4,"Kitöltés rendben!",IF(AS4<>AT4,"Kitöltési hiba!","Kitöltési hiba!"))))) -> Nincs rögzítve! | I4: =J4+K4 -> 0 | J4: =SUMIF(B_SZV_1A!$F:$F,$C4,B_SZV_1A!$N:$N) -> 0 | K4: =SUMIF(B_SZV_1A!$F:$F,$C4,B_SZV_1A!$O:$O) -> 0 | L4: =SUMIF(B_SZV_1A!$F:$F,$C4,B_SZV_1A!$P:$P) -> 0 | N4: =SUMIF(B_SZV_1A!$F:$F,$C4,B_SZV_1A!S:S) -> 0 | O4: =SUMIF(B_SZV_1A!$F:$F,$C4,B_SZV_1A!T:T) -> 0 | P4: =SUMIF(B_SZV_1A!$F:$F,$C4,B_SZV_1A!U:U) -> 0 | Q4: =SUMIF(B_SZV_1A!$F:$F,$C4,B_SZV_1A!V:V) -> 0 | R4: =SUMIF(B_SZV_1A!$F:$F,$C4,B_SZV_1A!W:W) -> 0 | S4: =SUMIF(B_SZV_1A!$F:$F,$C4,B_SZV_1A!X:X) -> 0 | T4: =SUMIF(B_SZV_1A!$F:$F,$C4,B_SZV_1A!Y:Y) -> 0 | U4: =SUMIF(B_SZV_1A!$F:$F,$C4,B_SZV_1A!Z:Z) -> 0 | V4: =SUMIF(B_SZV_1A!$F:$F,$C4,B_SZV_1A!AA:AA) -> 0 | W4: =SUMIF(B_SZV_1A!$F:$F,$C4,B_SZV_1A!AB:AB) -> 0 | X4: =SUMIF(B_SZV_1A!$F:$F,$C4,B_SZV_1A!AC:AC) -> 0 | Y4: =SUM(N4:X4) -> 0 | AA4: =SUMIF(B_SZV_1A!$F:$F,$C4,B_SZV_1A!AG:AG) -> 0 | AB4: =SUMIF(B_SZV_1A!$F:$F,$C4,B_SZV_1A!AH:AH) -> 0 | AC4: =SUMIF(B_SZV_1A!$F:$F,$C4,B_SZV_1A!AI:AI) -> 0 | AD4: =SUMIF(B_SZV_1A!$F:$F,$C4,B_SZV_1A!AJ:AJ) -> 0 | AE4: =SUMIF(B_SZV_1A!$F:$F,$C4,B_SZV_1A!AK:AK) -> 0 | AF4: =SUMIF(B_SZV_1A!$F:$F,$C4,B_SZV_1A!AL:AL) -> 0 | AG4: =SUMIF(B_SZV_1A!$F:$F,$C4,B_SZV_1A!AM:AM) -> 0 | AH4: =SUMIF(B_SZV_1A!$F:$F,$C4,B_SZV_1A!AN:AN) -> 0 | AI4: =SUMIF(B_SZV_1A!$F:$F,$C4,B_SZV_1A!AO:AO) -> 0 | AJ4: =SUMIF(B_SZV_1A!$F:$F,$C4,B_SZV_1A!AP:AP) -> 0 | AK4: =SUMIF(B_SZV_1A!$F:$F,$C4,B_SZV_1A!AQ:AQ) -> 0 | AL4: =SUM(AA4:AK4) -> 0 | AR4: =INDEX(B_SZV_1A!$G:$G,MATCH($C4,B_SZV_1A!$F:$F,0)) -> #N/A | AS4: =COUNTIF(B_SZV_1A!$AZ$3:$AZ$1499,$D4) -> 0 | AT4: =SUMIF(B_SZV_1A!$AZ$3:$AZ$1499,$D4,B_SZV_1A!$CH$3:$CH$1499) -> 0 | AU4: =SUMIF(B_SZV_1A!$AZ:$AZ,$D4,B_SZV_1A!$CI:$CI) -> 0 | AV4: =SUMIF(B_SZV_1A!$AZ:$AZ,$D4,B_SZV_1A!$CI:$CI) -> 0
A5: 405 | B5: Dudar szennyvízelvezető és – tisztító víziközmű- rendszer | C5: 21-02936-1-007-00-05 | D5: 1896 | E5: Magyar Állam | F5: Bakonynána, Bakonyoszlop, Bakonyszentkirály, Csesznek, Dudar, Nagyesztergár, Olaszfalu | G5: =IF(ISNA($AR5),"Nincs rögzítve!",IF(AU5=0,"Hiányzik a rövidtávú terv!",IF(AV5=0,"Hiányzik a hosszútávú terv!",IF(AS5=AT5,"Kitöltés rendben!",IF(AS5<>AT5,"Kitöltési hiba!","Kitöltési hiba!"))))) -> Nincs rögzítve! | I5: =J5+K5 -> 0 | J5: =SUMIF(B_SZV_1A!$F:$F,$C5,B_SZV_1A!$N:$N) -> 0 | K5: =SUMIF(B_SZV_1A!$F:$F,$C5,B_SZV_1A!$O:$O) -> 0 | L5: =SUMIF(B_SZV_1A!$F:$F,$C5,B_SZV_1A!$P:$P) -> 0 | N5: =SUMIF(B_SZV_1A!$F:$F,$C5,B_SZV_1A!S:S) -> 0 | O5: =SUMIF(B_SZV_1A!$F:$F,$C5,B_SZV_1A!T:T) -> 0 | P5: =SUMIF(B_SZV_1A!$F:$F,$C5,B_SZV_1A!U:U) -> 0 | Q5: =SUMIF(B_SZV_1A!$F:$F,$C5,B_SZV_1A!V:V) -> 0 | R5: =SUMIF(B_SZV_1A!$F:$F,$C5,B_SZV_1A!W:W) -> 0 | S5: =SUMIF(B_SZV_1A!$F:$F,$C5,B_SZV_1A!X:X) -> 0 | T5: =SUMIF(B_SZV_1A!$F:$F,$C5,B_SZV_1A!Y:Y) -> 0 | U5: =SUMIF(B_SZV_1A!$F:$F,$C5,B_SZV_1A!Z:Z) -> 0 | V5: =SUMIF(B_SZV_1A!$F:$F,$C5,B_SZV_1A!AA:AA) -> 0 | W5: =SUMIF(B_SZV_1A!$F:$F,$C5,B_SZV_1A!AB:AB) -> 0 | X5: =SUMIF(B_SZV_1A!$F:$F,$C5,B_SZV_1A!AC:AC) -> 0 | Y5: =SUM(N5:X5) -> 0 | AA5: =SUMIF(B_SZV_1A!$F:$F,$C5,B_SZV_1A!AG:AG) -> 0 | AB5: =SUMIF(B_SZV_1A!$F:$F,$C5,B_SZV_1A!AH:AH) -> 0 | AC5: =SUMIF(B_SZV_1A!$F:$F,$C5,B_SZV_1A!AI:AI) -> 0 | AD5: =SUMIF(B_SZV_1A!$F:$F,$C5,B_SZV_1A!AJ:AJ) -> 0 | AE5: =SUMIF(B_SZV_1A!$F:$F,$C5,B_SZV_1A!AK:AK) -> 0 | AF5: =SUMIF(B_SZV_1A!$F:$F,$C5,B_SZV_1A!AL:AL) -> 0 | AG5: =SUMIF(B_SZV_1A!$F:$F,$C5,B_SZV_1A!AM:AM) -> 0 | AH5: =SUMIF(B_SZV_1A!$F:$F,$C5,B_SZV_1A!AN:AN) -> 0 | AI5: =SUMIF(B_SZV_1A!$F:$F,$C5,B_SZV_1A!AO:AO) -> 0 | AJ5: =SUMIF(B_SZV_1A!$F:$F,$C5,B_SZV_1A!AP:AP) -> 0 | AK5: =SUMIF(B_SZV_1A!$F:$F,$C5,B_SZV_1A!AQ:AQ) -> 0 | AL5: =SUM(AA5:AK5) -> 0 | AR5: =INDEX(B_SZV_1A!$G:$G,MATCH($C5,B_SZV_1A!$F:$F,0)) -> #N/A | AS5: =COUNTIF(B_SZV_1A!$AZ$3:$AZ$1499,$D5) -> 0 | AT5: =SUMIF(B_SZV_1A!$AZ$3:$AZ$1499,$D5,B_SZV_1A!$CH$3:$CH$1499) -> 0 | AU5: =SUMIF(B_SZV_1A!$AZ:$AZ,$D5,B_SZV_1A!$CI:$CI) -> 0 | AV5: =SUMIF(B_SZV_1A!$AZ:$AZ,$D5,B_SZV_1A!$CI:$CI) -> 0
A6: 406 | B6: Litér szennyvízelvezető és – tisztító víziközmű- rendszer | C6: 21-04552-1-004-01-04 | D6: 1897 | E6: Magyar Állam | F6: Királyszentistván, Litér, Sóly, Vilonya | G6: =IF(ISNA($AR6),"Nincs rögzítve!",IF(AU6=0,"Hiányzik a rövidtávú terv!",IF(AV6=0,"Hiányzik a hosszútávú terv!",IF(AS6=AT6,"Kitöltés rendben!",IF(AS6<>AT6,"Kitöltési hiba!","Kitöltési hiba!"))))) -> Nincs rögzítve! | I6: =J6+K6 -> 0 | J6: =SUMIF(B_SZV_1A!$F:$F,$C6,B_SZV_1A!$N:$N) -> 0 | K6: =SUMIF(B_SZV_1A!$F:$F,$C6,B_SZV_1A!$O:$O) -> 0 | L6: =SUMIF(B_SZV_1A!$F:$F,$C6,B_SZV_1A!$P:$P) -> 0 | N6: =SUMIF(B_SZV_1A!$F:$F,$C6,B_SZV_1A!S:S) -> 0 | O6: =SUMIF(B_SZV_1A!$F:$F,$C6,B_SZV_1A!T:T) -> 0 | P6: =SUMIF(B_SZV_1A!$F:$F,$C6,B_SZV_1A!U:U) -> 0 | Q6: =SUMIF(B_SZV_1A!$F:$F,$C6,B_SZV_1A!V:V) -> 0 | R6: =SUMIF(B_SZV_1A!$F:$F,$C6,B_SZV_1A!W:W) -> 0 | S6: =SUMIF(B_SZV_1A!$F:$F,$C6,B_SZV_1A!X:X) -> 0 | T6: =SUMIF(B_SZV_1A!$F:$F,$C6,B_SZV_1A!Y:Y) -> 0 | U6: =SUMIF(B_SZV_1A!$F:$F,$C6,B_SZV_1A!Z:Z) -> 0 | V6: =SUMIF(B_SZV_1A!$F:$F,$C6,B_SZV_1A!AA:AA) -> 0 | W6: =SUMIF(B_SZV_1A!$F:$F,$C6,B_SZV_1A!AB:AB) -> 0 | X6: =SUMIF(B_SZV_1A!$F:$F,$C6,B_SZV_1A!AC:AC) -> 0 | Y6: =SUM(N6:X6) -> 0 | AA6: =SUMIF(B_SZV_1A!$F:$F,$C6,B_SZV_1A!AG:AG) -> 0 | AB6: =SUMIF(B_SZV_1A!$F:$F,$C6,B_SZV_1A!AH:AH) -> 0 | AC6: =SUMIF(B_SZV_1A!$F:$F,$C6,B_SZV_1A!AI:AI) -> 0 | AD6: =SUMIF(B_SZV_1A!$F:$F,$C6,B_SZV_1A!AJ:AJ) -> 0 | AE6: =SUMIF(B_SZV_1A!$F:$F,$C6,B_SZV_1A!AK:AK) -> 0 | AF6: =SUMIF(B_SZV_1A!$F:$F,$C6,B_SZV_1A!AL:AL) -> 0 | AG6: =SUMIF(B_SZV_1A!$F:$F,$C6,B_SZV_1A!AM:AM) -> 0 | AH6: =SUMIF(B_SZV_1A!$F:$F,$C6,B_SZV_1A!AN:AN) -> 0 | AI6: =SUMIF(B_SZV_1A!$F:$F,$C6,B_SZV_1A!AO:AO) -> 0 | AJ6: =SUMIF(B_SZV_1A!$F:$F,$C6,B_SZV_1A!AP:AP) -> 0 | AK6: =SUMIF(B_SZV_1A!$F:$F,$C6,B_SZV_1A!AQ:AQ) -> 0 | AL6: =SUM(AA6:AK6) -> 0 | AR6: =INDEX(B_SZV_1A!$G:$G,MATCH($C6,B_SZV_1A!$F:$F,0)) -> #N/A | AS6: =COUNTIF(B_SZV_1A!$AZ$3:$AZ$1499,$D6) -> 0 | AT6: =SUMIF(B_SZV_1A!$AZ$3:$AZ$1499,$D6,B_SZV_1A!$CH$3:$CH$1499) -> 0 | AU6: =SUMIF(B_SZV_1A!$AZ:$AZ,$D6,B_SZV_1A!$CI:$CI) -> 0 | AV6: =SUMIF(B_SZV_1A!$AZ:$AZ,$D6,B_SZV_1A!$CI:$CI) -> 0
A7: 407 | B7: Borszörcsök szennyvízelvezető és – tisztító víziközmű- rendszer | C7: 21-04765-1-001-00-12 | D7: 1898 | E7: Magyar Állam | F7: Borszörcsök | G7: =IF(ISNA($AR7),"Nincs rögzítve!",IF(AU7=0,"Hiányzik a rövidtávú terv!",IF(AV7=0,"Hiányzik a hosszútávú terv!",IF(AS7=AT7,"Kitöltés rendben!",IF(AS7<>AT7,"Kitöltési hiba!","Kitöltési hiba!"))))) -> Nincs rögzítve! | I7: =J7+K7 -> 0 | J7: =SUMIF(B_SZV_1A!$F:$F,$C7,B_SZV_1A!$N:$N) -> 0 | K7: =SUMIF(B_SZV_1A!$F:$F,$C7,B_SZV_1A!$O:$O) -> 0 | L7: =SUMIF(B_SZV_1A!$F:$F,$C7,B_SZV_1A!$P:$P) -> 0 | N7: =SUMIF(B_SZV_1A!$F:$F,$C7,B_SZV_1A!S:S) -> 0 | O7: =SUMIF(B_SZV_1A!$F:$F,$C7,B_SZV_1A!T:T) -> 0 | P7: =SUMIF(B_SZV_1A!$F:$F,$C7,B_SZV_1A!U:U) -> 0 | Q7: =SUMIF(B_SZV_1A!$F:$F,$C7,B_SZV_1A!V:V) -> 0 | R7: =SUMIF(B_SZV_1A!$F:$F,$C7,B_SZV_1A!W:W) -> 0 | S7: =SUMIF(B_SZV_1A!$F:$F,$C7,B_SZV_1A!X:X) -> 0 | T7: =SUMIF(B_SZV_1A!$F:$F,$C7,B_SZV_1A!Y:Y) -> 0 | U7: =SUMIF(B_SZV_1A!$F:$F,$C7,B_SZV_1A!Z:Z) -> 0 | V7: =SUMIF(B_SZV_1A!$F:$F,$C7,B_SZV_1A!AA:AA) -> 0 | W7: =SUMIF(B_SZV_1A!$F:$F,$C7,B_SZV_1A!AB:AB) -> 0 | X7: =SUMIF(B_SZV_1A!$F:$F,$C7,B_SZV_1A!AC:AC) -> 0 | Y7: =SUM(N7:X7) -> 0 | AA7: =SUMIF(B_SZV_1A!$F:$F,$C7,B_SZV_1A!AG:AG) -> 0 | AB7: =SUMIF(B_SZV_1A!$F:$F,$C7,B_SZV_1A!AH:AH) -> 0 | AC7: =SUMIF(B_SZV_1A!$F:$F,$C7,B_SZV_1A!AI:AI) -> 0 | AD7: =SUMIF(B_SZV_1A!$F:$F,$C7,B_SZV_1A!AJ:AJ) -> 0 | AE7: =SUMIF(B_SZV_1A!$F:$F,$C7,B_SZV_1A!AK:AK) -> 0 | AF7: =SUMIF(B_SZV_1A!$F:$F,$C7,B_SZV_1A!AL:AL) -> 0 | AG7: =SUMIF(B_SZV_1A!$F:$F,$C7,B_SZV_1A!AM:AM) -> 0 | AH7: =SUMIF(B_SZV_1A!$F:$F,$C7,B_SZV_1A!AN:AN) -> 0 | AI7: =SUMIF(B_SZV_1A!$F:$F,$C7,B_SZV_1A!AO:AO) -> 0 | AJ7: =SUMIF(B_SZV_1A!$F:$F,$C7,B_SZV_1A!AP:AP) -> 0 | AK7: =SUMIF(B_SZV_1A!$F:$F,$C7,B_SZV_1A!AQ:AQ) -> 0 | AL7: =SUM(AA7:AK7) -> 0 | AR7: =INDEX(B_SZV_1A!$G:$G,MATCH($C7,B_SZV_1A!$F:$F,0)) -> #N/A | AS7: =COUNTIF(B_SZV_1A!$AZ$3:$AZ$1499,$D7) -> 0 | AT7: =SUMIF(B_SZV_1A!$AZ$3:$AZ$1499,$D7,B_SZV_1A!$CH$3:$CH$1499) -> 0 | AU7: =SUMIF(B_SZV_1A!$AZ:$AZ,$D7,B_SZV_1A!$CI:$CI) -> 0 | AV7: =SUMIF(B_SZV_1A!$AZ:$AZ,$D7,B_SZV_1A!$CI:$CI) -> 0
A8: 408 | B8: Bodorfa szennyvízelvezető és – tisztító víziközmű- rendszer | C8: 21-05555-1-004-00-02 | D8: 1899 | E8: Magyar Állam | F8: Bodorfa, Gyepükaján, Káptalanfa, Nemeshany | G8: =IF(ISNA($AR8),"Nincs rögzítve!",IF(AU8=0,"Hiányzik a rövidtávú terv!",IF(AV8=0,"Hiányzik a hosszútávú terv!",IF(AS8=AT8,"Kitöltés rendben!",IF(AS8<>AT8,"Kitöltési hiba!","Kitöltési hiba!"))))) -> Nincs rögzítve! | I8: =J8+K8 -> 0 | J8: =SUMIF(B_SZV_1A!$F:$F,$C8,B_SZV_1A!$N:$N) -> 0 | K8: =SUMIF(B_SZV_1A!$F:$F,$C8,B_SZV_1A!$O:$O) -> 0 | L8: =SUMIF(B_SZV_1A!$F:$F,$C8,B_SZV_1A!$P:$P) -> 0 | N8: =SUMIF(B_SZV_1A!$F:$F,$C8,B_SZV_1A!S:S) -> 0 | O8: =SUMIF(B_SZV_1A!$F:$F,$C8,B_SZV_1A!T:T) -> 0 | P8: =SUMIF(B_SZV_1A!$F:$F,$C8,B_SZV_1A!U:U) -> 0 | Q8: =SUMIF(B_SZV_1A!$F:$F,$C8,B_SZV_1A!V:V) -> 0 | R8: =SUMIF(B_SZV_1A!$F:$F,$C8,B_SZV_1A!W:W) -> 0 | S8: =SUMIF(B_SZV_1A!$F:$F,$C8,B_SZV_1A!X:X) -> 0 | T8: =SUMIF(B_SZV_1A!$F:$F,$C8,B_SZV_1A!Y:Y) -> 0 | U8: =SUMIF(B_SZV_1A!$F:$F,$C8,B_SZV_1A!Z:Z) -> 0 | V8: =SUMIF(B_SZV_1A!$F:$F,$C8,B_SZV_1A!AA:AA) -> 0 | W8: =SUMIF(B_SZV_1A!$F:$F,$C8,B_SZV_1A!AB:AB) -> 0 | X8: =SUMIF(B_SZV_1A!$F:$F,$C8,B_SZV_1A!AC:AC) -> 0 | Y8: =SUM(N8:X8) -> 0 | AA8: =SUMIF(B_SZV_1A!$F:$F,$C8,B_SZV_1A!AG:AG) -> 0 | AB8: =SUMIF(B_SZV_1A!$F:$F,$C8,B_SZV_1A!AH:AH) -> 0 | AC8: =SUMIF(B_SZV_1A!$F:$F,$C8,B_SZV_1A!AI:AI) -> 0 | AD8: =SUMIF(B_SZV_1A!$F:$F,$C8,B_SZV_1A!AJ:AJ) -> 0 | AE8: =SUMIF(B_SZV_1A!$F:$F,$C8,B_SZV_1A!AK:AK) -> 0 | AF8: =SUMIF(B_SZV_1A!$F:$F,$C8,B_SZV_1A!AL:AL) -> 0 | AG8: =SUMIF(B_SZV_1A!$F:$F,$C8,B_SZV_1A!AM:AM) -> 0 | AH8: =SUMIF(B_SZV_1A!$F:$F,$C8,B_SZV_1A!AN:AN) -> 0 | AI8: =SUMIF(B_SZV_1A!$F:$F,$C8,B_SZV_1A!AO:AO) -> 0 | AJ8: =SUMIF(B_SZV_1A!$F:$F,$C8,B_SZV_1A!AP:AP) -> 0 | AK8: =SUMIF(B_SZV_1A!$F:$F,$C8,B_SZV_1A!AQ:AQ) -> 0 | AL8: =SUM(AA8:AK8) -> 0 | AR8: =INDEX(B_SZV_1A!$G:$G,MATCH($C8,B_SZV_1A!$F:$F,0)) -> #N/A | AS8: =COUNTIF(B_SZV_1A!$AZ$3:$AZ$1499,$D8) -> 0 | AT8: =SUMIF(B_SZV_1A!$AZ$3:$AZ$1499,$D8,B_SZV_1A!$CH$3:$CH$1499) -> 0 | AU8: =SUMIF(B_SZV_1A!$AZ:$AZ,$D8,B_SZV_1A!$CI:$CI) -> 0 | AV8: =SUMIF(B_SZV_1A!$AZ:$AZ,$D8,B_SZV_1A!$CI:$CI) -> 0
A9: 409 | B9: Ajka szennyvízelvezető és – tisztító víziközmű- rendszer | C9: 21-06673-1-007-01-00 | D9: 1900 | E9: Magyar Állam | F9: Ajka, Csehbánya, Farkasgyepű, Halimba, Kislőd, Magyarpolány, Városlőd | G9: =IF(ISNA($AR9),"Nincs rögzítve!",IF(AU9=0,"Hiányzik a rövidtávú terv!",IF(AV9=0,"Hiányzik a hosszútávú terv!",IF(AS9=AT9,"Kitöltés rendben!",IF(AS9<>AT9,"Kitöltési hiba!","Kitöltési hiba!"))))) -> Nincs rögzítve! | I9: =J9+K9 -> 0 | J9: =SUMIF(B_SZV_1A!$F:$F,$C9,B_SZV_1A!$N:$N) -> 0 | K9: =SUMIF(B_SZV_1A!$F:$F,$C9,B_SZV_1A!$O:$O) -> 0 | L9: =SUMIF(B_SZV_1A!$F:$F,$C9,B_SZV_1A!$P:$P) -> 0 | N9: =SUMIF(B_SZV_1A!$F:$F,$C9,B_SZV_1A!S:S) -> 0 | O9: =SUMIF(B_SZV_1A!$F:$F,$C9,B_SZV_1A!T:T) -> 0 | P9: =SUMIF(B_SZV_1A!$F:$F,$C9,B_SZV_1A!U:U) -> 0 | Q9: =SUMIF(B_SZV_1A!$F:$F,$C9,B_SZV_1A!V:V) -> 0 | R9: =SUMIF(B_SZV_1A!$F:$F,$C9,B_SZV_1A!W:W) -> 0 | S9: =SUMIF(B_SZV_1A!$F:$F,$C9,B_SZV_1A!X:X) -> 0 | T9: =SUMIF(B_SZV_1A!$F:$F,$C9,B_SZV_1A!Y:Y) -> 0 | U9: =SUMIF(B_SZV_1A!$F:$F,$C9,B_SZV_1A!Z:Z) -> 0 | V9: =SUMIF(B_SZV_1A!$F:$F,$C9,B_SZV_1A!AA:AA) -> 0 | W9: =SUMIF(B_SZV_1A!$F:$F,$C9,B_SZV_1A!AB:AB) -> 0 | X9: =SUMIF(B_SZV_1A!$F:$F,$C9,B_SZV_1A!AC:AC) -> 0 | Y9: =SUM(N9:X9) -> 0 | AA9: =SUMIF(B_SZV_1A!$F:$F,$C9,B_SZV_1A!AG:AG) -> 0 | AB9: =SUMIF(B_SZV_1A!$F:$F,$C9,B_SZV_1A!AH:AH) -> 0 | AC9: =SUMIF(B_SZV_1A!$F:$F,$C9,B_SZV_1A!AI:AI) -> 0 | AD9: =SUMIF(B_SZV_1A!$F:$F,$C9,B_SZV_1A!AJ:AJ) -> 0 | AE9: =SUMIF(B_SZV_1A!$F:$F,$C9,B_SZV_1A!AK:AK) -> 0 | AF9: =SUMIF(B_SZV_1A!$F:$F,$C9,B_SZV_1A!AL:AL) -> 0 | AG9: =SUMIF(B_SZV_1A!$F:$F,$C9,B_SZV_1A!AM:AM) -> 0 | AH9: =SUMIF(B_SZV_1A!$F:$F,$C9,B_SZV_1A!AN:AN) -> 0 | AI9: =SUMIF(B_SZV_1A!$F:$F,$C9,B_SZV_1A!AO:AO) -> 0 | AJ9: =SUMIF(B_SZV_1A!$F:$F,$C9,B_SZV_1A!AP:AP) -> 0 | AK9: =SUMIF(B_SZV_1A!$F:$F,$C9,B_SZV_1A!AQ:AQ) -> 0 | AL9: =SUM(AA9:AK9) -> 0 | AR9: =INDEX(B_SZV_1A!$G:$G,MATCH($C9,B_SZV_1A!$F:$F,0)) -> #N/A | AS9: =COUNTIF(B_SZV_1A!$AZ$3:$AZ$1499,$D9) -> 0 | AT9: =SUMIF(B_SZV_1A!$AZ$3:$AZ$1499,$D9,B_SZV_1A!$CH$3:$CH$1499) -> 0 | AU9: =SUMIF(B_SZV_1A!$AZ:$AZ,$D9,B_SZV_1A!$CI:$CI) -> 0 | AV9: =SUMIF(B_SZV_1A!$AZ:$AZ,$D9,B_SZV_1A!$CI:$CI) -> 0
A10: 410 | B10: Doba szennyvízelvezető és – tisztító víziközmű- rendszer | C10: 21-10870-1-001-00-13 | D10: 1901 | E10: Magyar Állam | F10: Doba | G10: =IF(ISNA($AR10),"Nincs rögzítve!",IF(AU10=0,"Hiányzik a rövidtávú terv!",IF(AV10=0,"Hiányzik a hosszútávú terv!",IF(AS10=AT10,"Kitöltés rendben!",IF(AS10<>AT10,"Kitöltési hiba!","Kitöltési hiba!"))))) -> Nincs rögzítve! | I10: =J10+K10 -> 0 | J10: =SUMIF(B_SZV_1A!$F:$F,$C10,B_SZV_1A!$N:$N) -> 0 | K10: =SUMIF(B_SZV_1A!$F:$F,$C10,B_SZV_1A!$O:$O) -> 0 | L10: =SUMIF(B_SZV_1A!$F:$F,$C10,B_SZV_1A!$P:$P) -> 0 | N10: =SUMIF(B_SZV_1A!$F:$F,$C10,B_SZV_1A!S:S) -> 0 | O10: =SUMIF(B_SZV_1A!$F:$F,$C10,B_SZV_1A!T:T) -> 0 | P10: =SUMIF(B_SZV_1A!$F:$F,$C10,B_SZV_1A!U:U) -> 0 | Q10: =SUMIF(B_SZV_1A!$F:$F,$C10,B_SZV_1A!V:V) -> 0 | R10: =SUMIF(B_SZV_1A!$F:$F,$C10,B_SZV_1A!W:W) -> 0 | S10: =SUMIF(B_SZV_1A!$F:$F,$C10,B_SZV_1A!X:X) -> 0 | T10: =SUMIF(B_SZV_1A!$F:$F,$C10,B_SZV_1A!Y:Y) -> 0 | U10: =SUMIF(B_SZV_1A!$F:$F,$C10,B_SZV_1A!Z:Z) -> 0 | V10: =SUMIF(B_SZV_1A!$F:$F,$C10,B_SZV_1A!AA:AA) -> 0 | W10: =SUMIF(B_SZV_1A!$F:$F,$C10,B_SZV_1A!AB:AB) -> 0 | X10: =SUMIF(B_SZV_1A!$F:$F,$C10,B_SZV_1A!AC:AC) -> 0 | Y10: =SUM(N10:X10) -> 0 | AA10: =SUMIF(B_SZV_1A!$F:$F,$C10,B_SZV_1A!AG:AG) -> 0 | AB10: =SUMIF(B_SZV_1A!$F:$F,$C10,B_SZV_1A!AH:AH) -> 0 | AC10: =SUMIF(B_SZV_1A!$F:$F,$C10,B_SZV_1A!AI:AI) -> 0 | AD10: =SUMIF(B_SZV_1A!$F:$F,$C10,B_SZV_1A!AJ:AJ) -> 0 | AE10: =SUMIF(B_SZV_1A!$F:$F,$C10,B_SZV_1A!AK:AK) -> 0 | AF10: =SUMIF(B_SZV_1A!$F:$F,$C10,B_SZV_1A!AL:AL) -> 0 | AG10: =SUMIF(B_SZV_1A!$F:$F,$C10,B_SZV_1A!AM:AM) -> 0 | AH10: =SUMIF(B_SZV_1A!$F:$F,$C10,B_SZV_1A!AN:AN) -> 0 | AI10: =SUMIF(B_SZV_1A!$F:$F,$C10,B_SZV_1A!AO:AO) -> 0 | AJ10: =SUMIF(B_SZV_1A!$F:$F,$C10,B_SZV_1A!AP:AP) -> 0 | AK10: =SUMIF(B_SZV_1A!$F:$F,$C10,B_SZV_1A!AQ:AQ) -> 0 | AL10: =SUM(AA10:AK10) -> 0 | AR10: =INDEX(B_SZV_1A!$G:$G,MATCH($C10,B_SZV_1A!$F:$F,0)) -> #N/A | AS10: =COUNTIF(B_SZV_1A!$AZ$3:$AZ$1499,$D10) -> 0 | AT10: =SUMIF(B_SZV_1A!$AZ$3:$AZ$1499,$D10,B_SZV_1A!$CH$3:$CH$1499) -> 0 | AU10: =SUMIF(B_SZV_1A!$AZ:$AZ,$D10,B_SZV_1A!$CI:$CI) -> 0 | AV10: =SUMIF(B_SZV_1A!$AZ:$AZ,$D10,B_SZV_1A!$CI:$CI) -> 0
A11: 411 | B11: Várpalota szennyvízelvezető és – tisztító víziközmű- rendszer | C11: 21-11439-1-002-01-03 | D11: 1902 | E11: Magyar Állam | F11: Csór, Várpalota | G11: =IF(ISNA($AR11),"Nincs rögzítve!",IF(AU11=0,"Hiányzik a rövidtávú terv!",IF(AV11=0,"Hiányzik a hosszútávú terv!",IF(AS11=AT11,"Kitöltés rendben!",IF(AS11<>AT11,"Kitöltési hiba!","Kitöltési hiba!"))))) -> Nincs rögzítve! | I11: =J11+K11 -> 0 | J11: =SUMIF(B_SZV_1A!$F:$F,$C11,B_SZV_1A!$N:$N) -> 0 | K11: =SUMIF(B_SZV_1A!$F:$F,$C11,B_SZV_1A!$O:$O) -> 0 | L11: =SUMIF(B_SZV_1A!$F:$F,$C11,B_SZV_1A!$P:$P) -> 0 | N11: =SUMIF(B_SZV_1A!$F:$F,$C11,B_SZV_1A!S:S) -> 0 | O11: =SUMIF(B_SZV_1A!$F:$F,$C11,B_SZV_1A!T:T) -> 0 | P11: =SUMIF(B_SZV_1A!$F:$F,$C11,B_SZV_1A!U:U) -> 0 | Q11: =SUMIF(B_SZV_1A!$F:$F,$C11,B_SZV_1A!V:V) -> 0 | R11: =SUMIF(B_SZV_1A!$F:$F,$C11,B_SZV_1A!W:W) -> 0 | S11: =SUMIF(B_SZV_1A!$F:$F,$C11,B_SZV_1A!X:X) -> 0 | T11: =SUMIF(B_SZV_1A!$F:$F,$C11,B_SZV_1A!Y:Y) -> 0 | U11: =SUMIF(B_SZV_1A!$F:$F,$C11,B_SZV_1A!Z:Z) -> 0 | V11: =SUMIF(B_SZV_1A!$F:$F,$C11,B_SZV_1A!AA:AA) -> 0 | W11: =SUMIF(B_SZV_1A!$F:$F,$C11,B_SZV_1A!AB:AB) -> 0 | X11: =SUMIF(B_SZV_1A!$F:$F,$C11,B_SZV_1A!AC:AC) -> 0 | Y11: =SUM(N11:X11) -> 0 | AA11: =SUMIF(B_SZV_1A!$F:$F,$C11,B_SZV_1A!AG:AG) -> 0 | AB11: =SUMIF(B_SZV_1A!$F:$F,$C11,B_SZV_1A!AH:AH) -> 0 | AC11: =SUMIF(B_SZV_1A!$F:$F,$C11,B_SZV_1A!AI:AI) -> 0 | AD11: =SUMIF(B_SZV_1A!$F:$F,$C11,B_SZV_1A!AJ:AJ) -> 0 | AE11: =SUMIF(B_SZV_1A!$F:$F,$C11,B_SZV_1A!AK:AK) -> 0 | AF11: =SUMIF(B_SZV_1A!$F:$F,$C11,B_SZV_1A!AL:AL) -> 0 | AG11: =SUMIF(B_SZV_1A!$F:$F,$C11,B_SZV_1A!AM:AM) -> 0 | AH11: =SUMIF(B_SZV_1A!$F:$F,$C11,B_SZV_1A!AN:AN) -> 0 | AI11: =SUMIF(B_SZV_1A!$F:$F,$C11,B_SZV_1A!AO:AO) -> 0 | AJ11: =SUMIF(B_SZV_1A!$F:$F,$C11,B_SZV_1A!AP:AP) -> 0 | AK11: =SUMIF(B_SZV_1A!$F:$F,$C11,B_SZV_1A!AQ:AQ) -> 0 | AL11: =SUM(AA11:AK11) -> 0 | AR11: =INDEX(B_SZV_1A!$G:$G,MATCH($C11,B_SZV_1A!$F:$F,0)) -> #N/A | AS11: =COUNTIF(B_SZV_1A!$AZ$3:$AZ$1499,$D11) -> 0 | AT11: =SUMIF(B_SZV_1A!$AZ$3:$AZ$1499,$D11,B_SZV_1A!$CH$3:$CH$1499) -> 0 | AU11: =SUMIF(B_SZV_1A!$AZ:$AZ,$D11,B_SZV_1A!$CI:$CI) -> 0 | AV11: =SUMIF(B_SZV_1A!$AZ:$AZ,$D11,B_SZV_1A!$CI:$CI) -> 0
A12: 412 | B12: Veszprém szennyvízelvezető és – tisztító víziközmű- rendszer | C12: 21-11767-1-005-00-00 | D12: 1903 | E12: Magyar Állam | F12: Nemesvámos, Hajmáskér, Szentkirályszabadja, Veszprém, Veszprémfajsz | G12: =IF(ISNA($AR12),"Nincs rögzítve!",IF(AU12=0,"Hiányzik a rövidtávú terv!",IF(AV12=0,"Hiányzik a hosszútávú terv!",IF(AS12=AT12,"Kitöltés rendben!",IF(AS12<>AT12,"Kitöltési hiba!","Kitöltési hiba!"))))) -> Nincs rögzítve! | I12: =J12+K12 -> 0 | J12: =SUMIF(B_SZV_1A!$F:$F,$C12,B_SZV_1A!$N:$N) -> 0 | K12: =SUMIF(B_SZV_1A!$F:$F,$C12,B_SZV_1A!$O:$O) -> 0 | L12: =SUMIF(B_SZV_1A!$F:$F,$C12,B_SZV_1A!$P:$P) -> 0 | N12: =SUMIF(B_SZV_1A!$F:$F,$C12,B_SZV_1A!S:S) -> 0 | O12: =SUMIF(B_SZV_1A!$F:$F,$C12,B_SZV_1A!T:T) -> 0 | P12: =SUMIF(B_SZV_1A!$F:$F,$C12,B_SZV_1A!U:U) -> 0 | Q12: =SUMIF(B_SZV_1A!$F:$F,$C12,B_SZV_1A!V:V) -> 0 | R12: =SUMIF(B_SZV_1A!$F:$F,$C12,B_SZV_1A!W:W) -> 0 | S12: =SUMIF(B_SZV_1A!$F:$F,$C12,B_SZV_1A!X:X) -> 0 | T12: =SUMIF(B_SZV_1A!$F:$F,$C12,B_SZV_1A!Y:Y) -> 0 | U12: =SUMIF(B_SZV_1A!$F:$F,$C12,B_SZV_1A!Z:Z) -> 0 | V12: =SUMIF(B_SZV_1A!$F:$F,$C12,B_SZV_1A!AA:AA) -> 0 | W12: =SUMIF(B_SZV_1A!$F:$F,$C12,B_SZV_1A!AB:AB) -> 0 | X12: =SUMIF(B_SZV_1A!$F:$F,$C12,B_SZV_1A!AC:AC) -> 0 | Y12: =SUM(N12:X12) -> 0 | AA12: =SUMIF(B_SZV_1A!$F:$F,$C12,B_SZV_1A!AG:AG) -> 0 | AB12: =SUMIF(B_SZV_1A!$F:$F,$C12,B_SZV_1A!AH:AH) -> 0 | AC12: =SUMIF(B_SZV_1A!$F:$F,$C12,B_SZV_1A!AI:AI) -> 0 | AD12: =SUMIF(B_SZV_1A!$F:$F,$C12,B_SZV_1A!AJ:AJ) -> 0 | AE12: =SUMIF(B_SZV_1A!$F:$F,$C12,B_SZV_1A!AK:AK) -> 0 | AF12: =SUMIF(B_SZV_1A!$F:$F,$C12,B_SZV_1A!AL:AL) -> 0 | AG12: =SUMIF(B_SZV_1A!$F:$F,$C12,B_SZV_1A!AM:AM) -> 0 | AH12: =SUMIF(B_SZV_1A!$F:$F,$C12,B_SZV_1A!AN:AN) -> 0 | AI12: =SUMIF(B_SZV_1A!$F:$F,$C12,B_SZV_1A!AO:AO) -> 0 | AJ12: =SUMIF(B_SZV_1A!$F:$F,$C12,B_SZV_1A!AP:AP) -> 0 | AK12: =SUMIF(B_SZV_1A!$F:$F,$C12,B_SZV_1A!AQ:AQ) -> 0 | AL12: =SUM(AA12:AK12) -> 0 | AR12: =INDEX(B_SZV_1A!$G:$G,MATCH($C12,B_SZV_1A!$F:$F,0)) -> #N/A | AS12: =COUNTIF(B_SZV_1A!$AZ$3:$AZ$1499,$D12) -> 0 | AT12: =SUMIF(B_SZV_1A!$AZ$3:$AZ$1499,$D12,B_SZV_1A!$CH$3:$CH$1499) -> 0 | AU12: =SUMIF(B_SZV_1A!$AZ:$AZ,$D12,B_SZV_1A!$CI:$CI) -> 0 | AV12: =SUMIF(B_SZV_1A!$AZ:$AZ,$D12,B_SZV_1A!$CI:$CI) -> 0
A13: 413 | B13: Noszlop szennyvízelvezető és – tisztító víziközmű- rendszer | C13: 21-14757-1-001-00-13 | D13: 1904 | E13: Magyar Állam | F13: Noszlop | G13: =IF(ISNA($AR13),"Nincs rögzítve!",IF(AU13=0,"Hiányzik a rövidtávú terv!",IF(AV13=0,"Hiányzik a hosszútávú terv!",IF(AS13=AT13,"Kitöltés rendben!",IF(AS13<>AT13,"Kitöltési hiba!","Kitöltési hiba!"))))) -> Nincs rögzítve! | I13: =J13+K13 -> 0 | J13: =SUMIF(B_SZV_1A!$F:$F,$C13,B_SZV_1A!$N:$N) -> 0 | K13: =SUMIF(B_SZV_1A!$F:$F,$C13,B_SZV_1A!$O:$O) -> 0 | L13: =SUMIF(B_SZV_1A!$F:$F,$C13,B_SZV_1A!$P:$P) -> 0 | N13: =SUMIF(B_SZV_1A!$F:$F,$C13,B_SZV_1A!S:S) -> 0 | O13: =SUMIF(B_SZV_1A!$F:$F,$C13,B_SZV_1A!T:T) -> 0 | P13: =SUMIF(B_SZV_1A!$F:$F,$C13,B_SZV_1A!U:U) -> 0 | Q13: =SUMIF(B_SZV_1A!$F:$F,$C13,B_SZV_1A!V:V) -> 0 | R13: =SUMIF(B_SZV_1A!$F:$F,$C13,B_SZV_1A!W:W) -> 0 | S13: =SUMIF(B_SZV_1A!$F:$F,$C13,B_SZV_1A!X:X) -> 0 | T13: =SUMIF(B_SZV_1A!$F:$F,$C13,B_SZV_1A!Y:Y) -> 0 | U13: =SUMIF(B_SZV_1A!$F:$F,$C13,B_SZV_1A!Z:Z) -> 0 | V13: =SUMIF(B_SZV_1A!$F:$F,$C13,B_SZV_1A!AA:AA) -> 0 | W13: =SUMIF(B_SZV_1A!$F:$F,$C13,B_SZV_1A!AB:AB) -> 0 | X13: =SUMIF(B_SZV_1A!$F:$F,$C13,B_SZV_1A!AC:AC) -> 0 | Y13: =SUM(N13:X13) -> 0 | AA13: =SUMIF(B_SZV_1A!$F:$F,$C13,B_SZV_1A!AG:AG) -> 0 | AB13: =SUMIF(B_SZV_1A!$F:$F,$C13,B_SZV_1A!AH:AH) -> 0 | AC13: =SUMIF(B_SZV_1A!$F:$F,$C13,B_SZV_1A!AI:AI) -> 0 | AD13: =SUMIF(B_SZV_1A!$F:$F,$C13,B_SZV_1A!AJ:AJ) -> 0 | AE13: =SUMIF(B_SZV_1A!$F:$F,$C13,B_SZV_1A!AK:AK) -> 0 | AF13: =SUMIF(B_SZV_1A!$F:$F,$C13,B_SZV_1A!AL:AL) -> 0 | AG13: =SUMIF(B_SZV_1A!$F:$F,$C13,B_SZV_1A!AM:AM) -> 0 | AH13: =SUMIF(B_SZV_1A!$F:$F,$C13,B_SZV_1A!AN:AN) -> 0 | AI13: =SUMIF(B_SZV_1A!$F:$F,$C13,B_SZV_1A!AO:AO) -> 0 | AJ13: =SUMIF(B_SZV_1A!$F:$F,$C13,B_SZV_1A!AP:AP) -> 0 | AK13: =SUMIF(B_SZV_1A!$F:$F,$C13,B_SZV_1A!AQ:AQ) -> 0 | AL13: =SUM(AA13:AK13) -> 0 | AR13: =INDEX(B_SZV_1A!$G:$G,MATCH($C13,B_SZV_1A!$F:$F,0)) -> #N/A | AS13: =COUNTIF(B_SZV_1A!$AZ$3:$AZ$1499,$D13) -> 0 | AT13: =SUMIF(B_SZV_1A!$AZ$3:$AZ$1499,$D13,B_SZV_1A!$CH$3:$CH$1499) -> 0 | AU13: =SUMIF(B_SZV_1A!$AZ:$AZ,$D13,B_SZV_1A!$CI:$CI) -> 0 | AV13: =SUMIF(B_SZV_1A!$AZ:$AZ,$D13,B_SZV_1A!$CI:$CI) -> 0
A14: 414 | B14: Nagyvázsony szennyvízelvezető és – tisztító víziközmű- rendszer | C14: 21-19196-1-008-01-03 | D14: 1905 | E14: Magyar Állam | F14: Barnag, Hidegkút, Mencshely, Nagyvázsony, Öcs, Pula, Tótvázsony, Vöröstó | G14: =IF(ISNA($AR14),"Nincs rögzítve!",IF(AU14=0,"Hiányzik a rövidtávú terv!",IF(AV14=0,"Hiányzik a hosszútávú terv!",IF(AS14=AT14,"Kitöltés rendben!",IF(AS14<>AT14,"Kitöltési hiba!","Kitöltési hiba!"))))) -> Nincs rögzítve! | I14: =J14+K14 -> 0 | J14: =SUMIF(B_SZV_1A!$F:$F,$C14,B_SZV_1A!$N:$N) -> 0 | K14: =SUMIF(B_SZV_1A!$F:$F,$C14,B_SZV_1A!$O:$O) -> 0 | L14: =SUMIF(B_SZV_1A!$F:$F,$C14,B_SZV_1A!$P:$P) -> 0 | N14: =SUMIF(B_SZV_1A!$F:$F,$C14,B_SZV_1A!S:S) -> 0 | O14: =SUMIF(B_SZV_1A!$F:$F,$C14,B_SZV_1A!T:T) -> 0 | P14: =SUMIF(B_SZV_1A!$F:$F,$C14,B_SZV_1A!U:U) -> 0 | Q14: =SUMIF(B_SZV_1A!$F:$F,$C14,B_SZV_1A!V:V) -> 0 | R14: =SUMIF(B_SZV_1A!$F:$F,$C14,B_SZV_1A!W:W) -> 0 | S14: =SUMIF(B_SZV_1A!$F:$F,$C14,B_SZV_1A!X:X) -> 0 | T14: =SUMIF(B_SZV_1A!$F:$F,$C14,B_SZV_1A!Y:Y) -> 0 | U14: =SUMIF(B_SZV_1A!$F:$F,$C14,B_SZV_1A!Z:Z) -> 0 | V14: =SUMIF(B_SZV_1A!$F:$F,$C14,B_SZV_1A!AA:AA) -> 0 | W14: =SUMIF(B_SZV_1A!$F:$F,$C14,B_SZV_1A!AB:AB) -> 0 | X14: =SUMIF(B_SZV_1A!$F:$F,$C14,B_SZV_1A!AC:AC) -> 0 | Y14: =SUM(N14:X14) -> 0 | AA14: =SUMIF(B_SZV_1A!$F:$F,$C14,B_SZV_1A!AG:AG) -> 0 | AB14: =SUMIF(B_SZV_1A!$F:$F,$C14,B_SZV_1A!AH:AH) -> 0 | AC14: =SUMIF(B_SZV_1A!$F:$F,$C14,B_SZV_1A!AI:AI) -> 0 | AD14: =SUMIF(B_SZV_1A!$F:$F,$C14,B_SZV_1A!AJ:AJ) -> 0 | AE14: =SUMIF(B_SZV_1A!$F:$F,$C14,B_SZV_1A!AK:AK) -> 0 | AF14: =SUMIF(B_SZV_1A!$F:$F,$C14,B_SZV_1A!AL:AL) -> 0 | AG14: =SUMIF(B_SZV_1A!$F:$F,$C14,B_SZV_1A!AM:AM) -> 0 | AH14: =SUMIF(B_SZV_1A!$F:$F,$C14,B_SZV_1A!AN:AN) -> 0 | AI14: =SUMIF(B_SZV_1A!$F:$F,$C14,B_SZV_1A!AO:AO) -> 0 | AJ14: =SUMIF(B_SZV_1A!$F:$F,$C14,B_SZV_1A!AP:AP) -> 0 | AK14: =SUMIF(B_SZV_1A!$F:$F,$C14,B_SZV_1A!AQ:AQ) -> 0 | AL14: =SUM(AA14:AK14) -> 0 | AR14: =INDEX(B_SZV_1A!$G:$G,MATCH($C14,B_SZV_1A!$F:$F,0)) -> #N/A | AS14: =COUNTIF(B_SZV_1A!$AZ$3:$AZ$1499,$D14) -> 0 | AT14: =SUMIF(B_SZV_1A!$AZ$3:$AZ$1499,$D14,B_SZV_1A!$CH$3:$CH$1499) -> 0 | AU14: =SUMIF(B_SZV_1A!$AZ:$AZ,$D14,B_SZV_1A!$CI:$CI) -> 0 | AV14: =SUMIF(B_SZV_1A!$AZ:$AZ,$D14,B_SZV_1A!$CI:$CI) -> 0
A15: 415 | B15: Tés szennyvízelvezető és -tisztító víziközmű-rendszer | C15: 21-20570-1-001-00-13 | D15: 1906 | E15: Magyar Állam | F15: Tés | G15: =IF(ISNA($AR15),"Nincs rögzítve!",IF(AU15=0,"Hiányzik a rövidtávú terv!",IF(AV15=0,"Hiányzik a hosszútávú terv!",IF(AS15=AT15,"Kitöltés rendben!",IF(AS15<>AT15,"Kitöltési hiba!","Kitöltési hiba!"))))) -> Nincs rögzítve! | I15: =J15+K15 -> 0 | J15: =SUMIF(B_SZV_1A!$F:$F,$C15,B_SZV_1A!$N:$N) -> 0 | K15: =SUMIF(B_SZV_1A!$F:$F,$C15,B_SZV_1A!$O:$O) -> 0 | L15: =SUMIF(B_SZV_1A!$F:$F,$C15,B_SZV_1A!$P:$P) -> 0 | N15: =SUMIF(B_SZV_1A!$F:$F,$C15,B_SZV_1A!S:S) -> 0 | O15: =SUMIF(B_SZV_1A!$F:$F,$C15,B_SZV_1A!T:T) -> 0 | P15: =SUMIF(B_SZV_1A!$F:$F,$C15,B_SZV_1A!U:U) -> 0 | Q15: =SUMIF(B_SZV_1A!$F:$F,$C15,B_SZV_1A!V:V) -> 0 | R15: =SUMIF(B_SZV_1A!$F:$F,$C15,B_SZV_1A!W:W) -> 0 | S15: =SUMIF(B_SZV_1A!$F:$F,$C15,B_SZV_1A!X:X) -> 0 | T15: =SUMIF(B_SZV_1A!$F:$F,$C15,B_SZV_1A!Y:Y) -> 0 | U15: =SUMIF(B_SZV_1A!$F:$F,$C15,B_SZV_1A!Z:Z) -> 0 | V15: =SUMIF(B_SZV_1A!$F:$F,$C15,B_SZV_1A!AA:AA) -> 0 | W15: =SUMIF(B_SZV_1A!$F:$F,$C15,B_SZV_1A!AB:AB) -> 0 | X15: =SUMIF(B_SZV_1A!$F:$F,$C15,B_SZV_1A!AC:AC) -> 0 | Y15: =SUM(N15:X15) -> 0 | AA15: =SUMIF(B_SZV_1A!$F:$F,$C15,B_SZV_1A!AG:AG) -> 0 | AB15: =SUMIF(B_SZV_1A!$F:$F,$C15,B_SZV_1A!AH:AH) -> 0 | AC15: =SUMIF(B_SZV_1A!$F:$F,$C15,B_SZV_1A!AI:AI) -> 0 | AD15: =SUMIF(B_SZV_1A!$F:$F,$C15,B_SZV_1A!AJ:AJ) -> 0 | AE15: =SUMIF(B_SZV_1A!$F:$F,$C15,B_SZV_1A!AK:AK) -> 0 | AF15: =SUMIF(B_SZV_1A!$F:$F,$C15,B_SZV_1A!AL:AL) -> 0 | AG15: =SUMIF(B_SZV_1A!$F:$F,$C15,B_SZV_1A!AM:AM) -> 0 | AH15: =SUMIF(B_SZV_1A!$F:$F,$C15,B_SZV_1A!AN:AN) -> 0 | AI15: =SUMIF(B_SZV_1A!$F:$F,$C15,B_SZV_1A!AO:AO) -> 0 | AJ15: =SUMIF(B_SZV_1A!$F:$F,$C15,B_SZV_1A!AP:AP) -> 0 | AK15: =SUMIF(B_SZV_1A!$F:$F,$C15,B_SZV_1A!AQ:AQ) -> 0 | AL15: =SUM(AA15:AK15) -> 0 | AR15: =INDEX(B_SZV_1A!$G:$G,MATCH($C15,B_SZV_1A!$F:$F,0)) -> #N/A | AS15: =COUNTIF(B_SZV_1A!$AZ$3:$AZ$1499,$D15) -> 0 | AT15: =SUMIF(B_SZV_1A!$AZ$3:$AZ$1499,$D15,B_SZV_1A!$CH$3:$CH$1499) -> 0 | AU15: =SUMIF(B_SZV_1A!$AZ:$AZ,$D15,B_SZV_1A!$CI:$CI) -> 0 | AV15: =SUMIF(B_SZV_1A!$AZ:$AZ,$D15,B_SZV_1A!$CI:$CI) -> 0
... A34: 435 | B34: Pécsely- Balatonszőlős szennyvízelvezető víziközmű- rendszer | C34: 22-22451-1-002-00-14 | D34: 1926 | E34: Magyar Állam | F34: Balatonszőlős, Pécsely | G34: =IF(ISNA($AR34),"Nincs rögzítve!",IF(AU34=0,"Hiányzik a rövidtávú terv!",IF(AV34=0,"Hiányzik a hosszútávú terv!",IF(AS34=AT34,"Kitöltés rendben!",IF(AS34<>AT34,"Kitöltési hiba!","Kitöltési hiba!"))))) -> Nincs rögzítve! | I34: =J34+K34 -> 0 | J34: =SUMIF(B_SZV_1A!$F:$F,$C34,B_SZV_1A!$N:$N) -> 0 | K34: =SUMIF(B_SZV_1A!$F:$F,$C34,B_SZV_1A!$O:$O) -> 0 | L34: =SUMIF(B_SZV_1A!$F:$F,$C34,B_SZV_1A!$P:$P) -> 0 | N34: =SUMIF(B_SZV_1A!$F:$F,$C34,B_SZV_1A!S:S) -> 0 | O34: =SUMIF(B_SZV_1A!$F:$F,$C34,B_SZV_1A!T:T) -> 0 | P34: =SUMIF(B_SZV_1A!$F:$F,$C34,B_SZV_1A!U:U) -> 0 | Q34: =SUMIF(B_SZV_1A!$F:$F,$C34,B_SZV_1A!V:V) -> 0 | R34: =SUMIF(B_SZV_1A!$F:$F,$C34,B_SZV_1A!W:W) -> 0 | S34: =SUMIF(B_SZV_1A!$F:$F,$C34,B_SZV_1A!X:X) -> 0 | T34: =SUMIF(B_SZV_1A!$F:$F,$C34,B_SZV_1A!Y:Y) -> 0 | U34: =SUMIF(B_SZV_1A!$F:$F,$C34,B_SZV_1A!Z:Z) -> 0 | V34: =SUMIF(B_SZV_1A!$F:$F,$C34,B_SZV_1A!AA:AA) -> 0 | W34: =SUMIF(B_SZV_1A!$F:$F,$C34,B_SZV_1A!AB:AB) -> 0 | X34: =SUMIF(B_SZV_1A!$F:$F,$C34,B_SZV_1A!AC:AC) -> 0 | Y34: =SUM(N34:X34) -> 0 | AA34: =SUMIF(B_SZV_1A!$F:$F,$C34,B_SZV_1A!AG:AG) -> 0 | AB34: =SUMIF(B_SZV_1A!$F:$F,$C34,B_SZV_1A!AH:AH) -> 0 | AC34: =SUMIF(B_SZV_1A!$F:$F,$C34,B_SZV_1A!AI:AI) -> 0 | AD34: =SUMIF(B_SZV_1A!$F:$F,$C34,B_SZV_1A!AJ:AJ) -> 0 | AE34: =SUMIF(B_SZV_1A!$F:$F,$C34,B_SZV_1A!AK:AK) -> 0 | AF34: =SUMIF(B_SZV_1A!$F:$F,$C34,B_SZV_1A!AL:AL) -> 0 | AG34: =SUMIF(B_SZV_1A!$F:$F,$C34,B_SZV_1A!AM:AM) -> 0 | AH34: =SUMIF(B_SZV_1A!$F:$F,$C34,B_SZV_1A!AN:AN) -> 0 | AI34: =SUMIF(B_SZV_1A!$F:$F,$C34,B_SZV_1A!AO:AO) -> 0 | AJ34: =SUMIF(B_SZV_1A!$F:$F,$C34,B_SZV_1A!AP:AP) -> 0 | AK34: =SUMIF(B_SZV_1A!$F:$F,$C34,B_SZV_1A!AQ:AQ) -> 0 | AL34: =SUM(AA34:AK34) -> 0 | AR34: =INDEX(B_SZV_1A!$G:$G,MATCH($C34,B_SZV_1A!$F:$F,0)) -> #N/A | AS34: =COUNTIF(B_SZV_1A!$AZ$3:$AZ$1499,$D34) -> 0 | AT34: =SUMIF(B_SZV_1A!$AZ$3:$AZ$1499,$D34,B_SZV_1A!$CH$3:$CH$1499) -> 0 | AU34: =SUMIF(B_SZV_1A!$AZ:$AZ,$D34,B_SZV_1A!$CI:$CI) -> 0 | AV34: =SUMIF(B_SZV_1A!$AZ:$AZ,$D34,B_SZV_1A!$CI:$CI) -> 0
A35: 1134 | B35: DRV_S_227 | C35: 21-05625-1-003-01-02 | D35: 2643 | G35: =IF(ISNA($AR35),"Nincs rögzítve!",IF(AU35=0,"Hiányzik a rövidtávú terv!",IF(AV35=0,"Hiányzik a hosszútávú terv!",IF(AS35=AT35,"Kitöltés rendben!",IF(AS35<>AT35,"Kitöltési hiba!","Kitöltési hiba!"))))) -> Nincs rögzítve! | I35: =J35+K35 -> 0 | J35: =SUMIF(B_SZV_1A!$F:$F,$C35,B_SZV_1A!$N:$N) -> 0 | K35: =SUMIF(B_SZV_1A!$F:$F,$C35,B_SZV_1A!$O:$O) -> 0 | L35: =SUMIF(B_SZV_1A!$F:$F,$C35,B_SZV_1A!$P:$P) -> 0 | N35: =SUMIF(B_SZV_1A!$F:$F,$C35,B_SZV_1A!S:S) -> 0 | O35: =SUMIF(B_SZV_1A!$F:$F,$C35,B_SZV_1A!T:T) -> 0 | P35: =SUMIF(B_SZV_1A!$F:$F,$C35,B_SZV_1A!U:U) -> 0 | Q35: =SUMIF(B_SZV_1A!$F:$F,$C35,B_SZV_1A!V:V) -> 0 | R35: =SUMIF(B_SZV_1A!$F:$F,$C35,B_SZV_1A!W:W) -> 0 | S35: =SUMIF(B_SZV_1A!$F:$F,$C35,B_SZV_1A!X:X) -> 0 | T35: =SUMIF(B_SZV_1A!$F:$F,$C35,B_SZV_1A!Y:Y) -> 0 | U35: =SUMIF(B_SZV_1A!$F:$F,$C35,B_SZV_1A!Z:Z) -> 0 | V35: =SUMIF(B_SZV_1A!$F:$F,$C35,B_SZV_1A!AA:AA) -> 0 | W35: =SUMIF(B_SZV_1A!$F:$F,$C35,B_SZV_1A!AB:AB) -> 0 | X35: =SUMIF(B_SZV_1A!$F:$F,$C35,B_SZV_1A!AC:AC) -> 0 | Y35: =SUM(N35:X35) -> 0 | AA35: =SUMIF(B_SZV_1A!$F:$F,$C35,B_SZV_1A!AG:AG) -> 0 | AB35: =SUMIF(B_SZV_1A!$F:$F,$C35,B_SZV_1A!AH:AH) -> 0 | AC35: =SUMIF(B_SZV_1A!$F:$F,$C35,B_SZV_1A!AI:AI) -> 0 | AD35: =SUMIF(B_SZV_1A!$F:$F,$C35,B_SZV_1A!AJ:AJ) -> 0 | AE35: =SUMIF(B_SZV_1A!$F:$F,$C35,B_SZV_1A!AK:AK) -> 0 | AF35: =SUMIF(B_SZV_1A!$F:$F,$C35,B_SZV_1A!AL:AL) -> 0 | AG35: =SUMIF(B_SZV_1A!$F:$F,$C35,B_SZV_1A!AM:AM) -> 0 | AH35: =SUMIF(B_SZV_1A!$F:$F,$C35,B_SZV_1A!AN:AN) -> 0 | AI35: =SUMIF(B_SZV_1A!$F:$F,$C35,B_SZV_1A!AO:AO) -> 0 | AJ35: =SUMIF(B_SZV_1A!$F:$F,$C35,B_SZV_1A!AP:AP) -> 0 | AK35: =SUMIF(B_SZV_1A!$F:$F,$C35,B_SZV_1A!AQ:AQ) -> 0 | AL35: =SUM(AA35:AK35) -> 0 | AR35: =INDEX(B_SZV_1A!$G:$G,MATCH($C35,B_SZV_1A!$F:$F,0)) -> #N/A | AS35: =COUNTIF(B_SZV_1A!$AZ$3:$AZ$1499,$D35) -> 0 | AT35: =SUMIF(B_SZV_1A!$AZ$3:$AZ$1499,$D35,B_SZV_1A!$CH$3:$CH$1499) -> 0 | AU35: =SUMIF(B_SZV_1A!$AZ:$AZ,$D35,B_SZV_1A!$CI:$CI) -> 0 | AV35: =SUMIF(B_SZV_1A!$AZ:$AZ,$D35,B_SZV_1A!$CI:$CI) -> 0
A36: 1163 | B36: DRV_S_206 | C36: 21-20853-1-001-00-13 | D36: 2670 | E36: Úrkút Község Önkormányzata | F36: Úrkút | G36: =IF(ISNA($AR36),"Nincs rögzítve!",IF(AU36=0,"Hiányzik a rövidtávú terv!",IF(AV36=0,"Hiányzik a hosszútávú terv!",IF(AS36=AT36,"Kitöltés rendben!",IF(AS36<>AT36,"Kitöltési hiba!","Kitöltési hiba!"))))) -> Nincs rögzítve! | I36: =J36+K36 -> 0 | J36: =SUMIF(B_SZV_1A!$F:$F,$C36,B_SZV_1A!$N:$N) -> 0 | K36: =SUMIF(B_SZV_1A!$F:$F,$C36,B_SZV_1A!$O:$O) -> 0 | L36: =SUMIF(B_SZV_1A!$F:$F,$C36,B_SZV_1A!$P:$P) -> 0 | N36: =SUMIF(B_SZV_1A!$F:$F,$C36,B_SZV_1A!S:S) -> 0 | O36: =SUMIF(B_SZV_1A!$F:$F,$C36,B_SZV_1A!T:T) -> 0 | P36: =SUMIF(B_SZV_1A!$F:$F,$C36,B_SZV_1A!U:U) -> 0 | Q36: =SUMIF(B_SZV_1A!$F:$F,$C36,B_SZV_1A!V:V) -> 0 | R36: =SUMIF(B_SZV_1A!$F:$F,$C36,B_SZV_1A!W:W) -> 0 | S36: =SUMIF(B_SZV_1A!$F:$F,$C36,B_SZV_1A!X:X) -> 0 | T36: =SUMIF(B_SZV_1A!$F:$F,$C36,B_SZV_1A!Y:Y) -> 0 | U36: =SUMIF(B_SZV_1A!$F:$F,$C36,B_SZV_1A!Z:Z) -> 0 | V36: =SUMIF(B_SZV_1A!$F:$F,$C36,B_SZV_1A!AA:AA) -> 0 | W36: =SUMIF(B_SZV_1A!$F:$F,$C36,B_SZV_1A!AB:AB) -> 0 | X36: =SUMIF(B_SZV_1A!$F:$F,$C36,B_SZV_1A!AC:AC) -> 0 | Y36: =SUM(N36:X36) -> 0 | AA36: =SUMIF(B_SZV_1A!$F:$F,$C36,B_SZV_1A!AG:AG) -> 0 | AB36: =SUMIF(B_SZV_1A!$F:$F,$C36,B_SZV_1A!AH:AH) -> 0 | AC36: =SUMIF(B_SZV_1A!$F:$F,$C36,B_SZV_1A!AI:AI) -> 0 | AD36: =SUMIF(B_SZV_1A!$F:$F,$C36,B_SZV_1A!AJ:AJ) -> 0 | AE36: =SUMIF(B_SZV_1A!$F:$F,$C36,B_SZV_1A!AK:AK) -> 0 | AF36: =SUMIF(B_SZV_1A!$F:$F,$C36,B_SZV_1A!AL:AL) -> 0 | AG36: =SUMIF(B_SZV_1A!$F:$F,$C36,B_SZV_1A!AM:AM) -> 0 | AH36: =SUMIF(B_SZV_1A!$F:$F,$C36,B_SZV_1A!AN:AN) -> 0 | AI36: =SUMIF(B_SZV_1A!$F:$F,$C36,B_SZV_1A!AO:AO) -> 0 | AJ36: =SUMIF(B_SZV_1A!$F:$F,$C36,B_SZV_1A!AP:AP) -> 0 | AK36: =SUMIF(B_SZV_1A!$F:$F,$C36,B_SZV_1A!AQ:AQ) -> 0 | AL36: =SUM(AA36:AK36) -> 0 | AR36: =INDEX(B_SZV_1A!$G:$G,MATCH($C36,B_SZV_1A!$F:$F,0)) -> #N/A | AS36: =COUNTIF(B_SZV_1A!$AZ$3:$AZ$1499,$D36) -> 0 | AT36: =SUMIF(B_SZV_1A!$AZ$3:$AZ$1499,$D36,B_SZV_1A!$CH$3:$CH$1499) -> 0 | AU36: =SUMIF(B_SZV_1A!$AZ:$AZ,$D36,B_SZV_1A!$CI:$CI) -> 0 | AV36: =SUMIF(B_SZV_1A!$AZ:$AZ,$D36,B_SZV_1A!$CI:$CI) -> 0
A37: 1164 | B37: DRV_S_229 | C37: 21-21175-1-002-01-07 | D37: 2671 | G37: =IF(ISNA($AR37),"Nincs rögzítve!",IF(AU37=0,"Hiányzik a rövidtávú terv!",IF(AV37=0,"Hiányzik a hosszútávú terv!",IF(AS37=AT37,"Kitöltés rendben!",IF(AS37<>AT37,"Kitöltési hiba!","Kitöltési hiba!"))))) -> Nincs rögzítve! | I37: =J37+K37 -> 0 | J37: =SUMIF(B_SZV_1A!$F:$F,$C37,B_SZV_1A!$N:$N) -> 0 | K37: =SUMIF(B_SZV_1A!$F:$F,$C37,B_SZV_1A!$O:$O) -> 0 | L37: =SUMIF(B_SZV_1A!$F:$F,$C37,B_SZV_1A!$P:$P) -> 0 | N37: =SUMIF(B_SZV_1A!$F:$F,$C37,B_SZV_1A!S:S) -> 0 | O37: =SUMIF(B_SZV_1A!$F:$F,$C37,B_SZV_1A!T:T) -> 0 | P37: =SUMIF(B_SZV_1A!$F:$F,$C37,B_SZV_1A!U:U) -> 0 | Q37: =SUMIF(B_SZV_1A!$F:$F,$C37,B_SZV_1A!V:V) -> 0 | R37: =SUMIF(B_SZV_1A!$F:$F,$C37,B_SZV_1A!W:W) -> 0 | S37: =SUMIF(B_SZV_1A!$F:$F,$C37,B_SZV_1A!X:X) -> 0 | T37: =SUMIF(B_SZV_1A!$F:$F,$C37,B_SZV_1A!Y:Y) -> 0 | U37: =SUMIF(B_SZV_1A!$F:$F,$C37,B_SZV_1A!Z:Z) -> 0 | V37: =SUMIF(B_SZV_1A!$F:$F,$C37,B_SZV_1A!AA:AA) -> 0 | W37: =SUMIF(B_SZV_1A!$F:$F,$C37,B_SZV_1A!AB:AB) -> 0 | X37: =SUMIF(B_SZV_1A!$F:$F,$C37,B_SZV_1A!AC:AC) -> 0 | Y37: =SUM(N37:X37) -> 0 | AA37: =SUMIF(B_SZV_1A!$F:$F,$C37,B_SZV_1A!AG:AG) -> 0 | AB37: =SUMIF(B_SZV_1A!$F:$F,$C37,B_SZV_1A!AH:AH) -> 0 | AC37: =SUMIF(B_SZV_1A!$F:$F,$C37,B_SZV_1A!AI:AI) -> 0 | AD37: =SUMIF(B_SZV_1A!$F:$F,$C37,B_SZV_1A!AJ:AJ) -> 0 | AE37: =SUMIF(B_SZV_1A!$F:$F,$C37,B_SZV_1A!AK:AK) -> 0 | AF37: =SUMIF(B_SZV_1A!$F:$F,$C37,B_SZV_1A!AL:AL) -> 0 | AG37: =SUMIF(B_SZV_1A!$F:$F,$C37,B_SZV_1A!AM:AM) -> 0 | AH37: =SUMIF(B_SZV_1A!$F:$F,$C37,B_SZV_1A!AN:AN) -> 0 | AI37: =SUMIF(B_SZV_1A!$F:$F,$C37,B_SZV_1A!AO:AO) -> 0 | AJ37: =SUMIF(B_SZV_1A!$F:$F,$C37,B_SZV_1A!AP:AP) -> 0 | AK37: =SUMIF(B_SZV_1A!$F:$F,$C37,B_SZV_1A!AQ:AQ) -> 0 | AL37: =SUM(AA37:AK37) -> 0 | AR37: =INDEX(B_SZV_1A!$G:$G,MATCH($C37,B_SZV_1A!$F:$F,0)) -> #N/A | AS37: =COUNTIF(B_SZV_1A!$AZ$3:$AZ$1499,$D37) -> 0 | AT37: =SUMIF(B_SZV_1A!$AZ$3:$AZ$1499,$D37,B_SZV_1A!$CH$3:$CH$1499) -> 0 | AU37: =SUMIF(B_SZV_1A!$AZ:$AZ,$D37,B_SZV_1A!$CI:$CI) -> 0 | AV37: =SUMIF(B_SZV_1A!$AZ:$AZ,$D37,B_SZV_1A!$CI:$CI) -> 0
A38: 1178 | B38: DRV_S_234 | C38: 21-30526-1-005-01-03 | D38: 2685 | G38: =IF(ISNA($AR38),"Nincs rögzítve!",IF(AU38=0,"Hiányzik a rövidtávú terv!",IF(AV38=0,"Hiányzik a hosszútávú terv!",IF(AS38=AT38,"Kitöltés rendben!",IF(AS38<>AT38,"Kitöltési hiba!","Kitöltési hiba!"))))) -> Nincs rögzítve! | I38: =J38+K38 -> 0 | J38: =SUMIF(B_SZV_1A!$F:$F,$C38,B_SZV_1A!$N:$N) -> 0 | K38: =SUMIF(B_SZV_1A!$F:$F,$C38,B_SZV_1A!$O:$O) -> 0 | L38: =SUMIF(B_SZV_1A!$F:$F,$C38,B_SZV_1A!$P:$P) -> 0 | N38: =SUMIF(B_SZV_1A!$F:$F,$C38,B_SZV_1A!S:S) -> 0 | O38: =SUMIF(B_SZV_1A!$F:$F,$C38,B_SZV_1A!T:T) -> 0 | P38: =SUMIF(B_SZV_1A!$F:$F,$C38,B_SZV_1A!U:U) -> 0 | Q38: =SUMIF(B_SZV_1A!$F:$F,$C38,B_SZV_1A!V:V) -> 0 | R38: =SUMIF(B_SZV_1A!$F:$F,$C38,B_SZV_1A!W:W) -> 0 | S38: =SUMIF(B_SZV_1A!$F:$F,$C38,B_SZV_1A!X:X) -> 0 | T38: =SUMIF(B_SZV_1A!$F:$F,$C38,B_SZV_1A!Y:Y) -> 0 | U38: =SUMIF(B_SZV_1A!$F:$F,$C38,B_SZV_1A!Z:Z) -> 0 | V38: =SUMIF(B_SZV_1A!$F:$F,$C38,B_SZV_1A!AA:AA) -> 0 | W38: =SUMIF(B_SZV_1A!$F:$F,$C38,B_SZV_1A!AB:AB) -> 0 | X38: =SUMIF(B_SZV_1A!$F:$F,$C38,B_SZV_1A!AC:AC) -> 0 | Y38: =SUM(N38:X38) -> 0 | AA38: =SUMIF(B_SZV_1A!$F:$F,$C38,B_SZV_1A!AG:AG) -> 0 | AB38: =SUMIF(B_SZV_1A!$F:$F,$C38,B_SZV_1A!AH:AH) -> 0 | AC38: =SUMIF(B_SZV_1A!$F:$F,$C38,B_SZV_1A!AI:AI) -> 0 | AD38: =SUMIF(B_SZV_1A!$F:$F,$C38,B_SZV_1A!AJ:AJ) -> 0 | AE38: =SUMIF(B_SZV_1A!$F:$F,$C38,B_SZV_1A!AK:AK) -> 0 | AF38: =SUMIF(B_SZV_1A!$F:$F,$C38,B_SZV_1A!AL:AL) -> 0 | AG38: =SUMIF(B_SZV_1A!$F:$F,$C38,B_SZV_1A!AM:AM) -> 0 | AH38: =SUMIF(B_SZV_1A!$F:$F,$C38,B_SZV_1A!AN:AN) -> 0 | AI38: =SUMIF(B_SZV_1A!$F:$F,$C38,B_SZV_1A!AO:AO) -> 0 | AJ38: =SUMIF(B_SZV_1A!$F:$F,$C38,B_SZV_1A!AP:AP) -> 0 | AK38: =SUMIF(B_SZV_1A!$F:$F,$C38,B_SZV_1A!AQ:AQ) -> 0 | AL38: =SUM(AA38:AK38) -> 0 | AR38: =INDEX(B_SZV_1A!$G:$G,MATCH($C38,B_SZV_1A!$F:$F,0)) -> #N/A | AS38: =COUNTIF(B_SZV_1A!$AZ$3:$AZ$1499,$D38) -> 0 | AT38: =SUMIF(B_SZV_1A!$AZ$3:$AZ$1499,$D38,B_SZV_1A!$CH$3:$CH$1499) -> 0 | AU38: =SUMIF(B_SZV_1A!$AZ:$AZ,$D38,B_SZV_1A!$CI:$CI) -> 0 | AV38: =SUMIF(B_SZV_1A!$AZ:$AZ,$D38,B_SZV_1A!$CI:$CI) -> 0
A39: 1192 | B39: DRV_S_236 | C39: 22-05564-1-001-01-11 | D39: 2699 | E39: Lovas Község Önkormányzata | F39: Lovas | G39: =IF(ISNA($AR39),"Nincs rögzítve!",IF(AU39=0,"Hiányzik a rövidtávú terv!",IF(AV39=0,"Hiányzik a hosszútávú terv!",IF(AS39=AT39,"Kitöltés rendben!",IF(AS39<>AT39,"Kitöltési hiba!","Kitöltési hiba!"))))) -> Nincs rögzítve! | I39: =J39+K39 -> 0 | J39: =SUMIF(B_SZV_1A!$F:$F,$C39,B_SZV_1A!$N:$N) -> 0 | K39: =SUMIF(B_SZV_1A!$F:$F,$C39,B_SZV_1A!$O:$O) -> 0 | L39: =SUMIF(B_SZV_1A!$F:$F,$C39,B_SZV_1A!$P:$P) -> 0 | N39: =SUMIF(B_SZV_1A!$F:$F,$C39,B_SZV_1A!S:S) -> 0 | O39: =SUMIF(B_SZV_1A!$F:$F,$C39,B_SZV_1A!T:T) -> 0 | P39: =SUMIF(B_SZV_1A!$F:$F,$C39,B_SZV_1A!U:U) -> 0 | Q39: =SUMIF(B_SZV_1A!$F:$F,$C39,B_SZV_1A!V:V) -> 0 | R39: =SUMIF(B_SZV_1A!$F:$F,$C39,B_SZV_1A!W:W) -> 0 | S39: =SUMIF(B_SZV_1A!$F:$F,$C39,B_SZV_1A!X:X) -> 0 | T39: =SUMIF(B_SZV_1A!$F:$F,$C39,B_SZV_1A!Y:Y) -> 0 | U39: =SUMIF(B_SZV_1A!$F:$F,$C39,B_SZV_1A!Z:Z) -> 0 | V39: =SUMIF(B_SZV_1A!$F:$F,$C39,B_SZV_1A!AA:AA) -> 0 | W39: =SUMIF(B_SZV_1A!$F:$F,$C39,B_SZV_1A!AB:AB) -> 0 | X39: =SUMIF(B_SZV_1A!$F:$F,$C39,B_SZV_1A!AC:AC) -> 0 | Y39: =SUM(N39:X39) -> 0 | AA39: =SUMIF(B_SZV_1A!$F:$F,$C39,B_SZV_1A!AG:AG) -> 0 | AB39: =SUMIF(B_SZV_1A!$F:$F,$C39,B_SZV_1A!AH:AH) -> 0 | AC39: =SUMIF(B_SZV_1A!$F:$F,$C39,B_SZV_1A!AI:AI) -> 0 | AD39: =SUMIF(B_SZV_1A!$F:$F,$C39,B_SZV_1A!AJ:AJ) -> 0 | AE39: =SUMIF(B_SZV_1A!$F:$F,$C39,B_SZV_1A!AK:AK) -> 0 | AF39: =SUMIF(B_SZV_1A!$F:$F,$C39,B_SZV_1A!AL:AL) -> 0 | AG39: =SUMIF(B_SZV_1A!$F:$F,$C39,B_SZV_1A!AM:AM) -> 0 | AH39: =SUMIF(B_SZV_1A!$F:$F,$C39,B_SZV_1A!AN:AN) -> 0 | AI39: =SUMIF(B_SZV_1A!$F:$F,$C39,B_SZV_1A!AO:AO) -> 0 | AJ39: =SUMIF(B_SZV_1A!$F:$F,$C39,B_SZV_1A!AP:AP) -> 0 | AK39: =SUMIF(B_SZV_1A!$F:$F,$C39,B_SZV_1A!AQ:AQ) -> 0 | AL39: =SUM(AA39:AK39) -> 0 | AR39: =INDEX(B_SZV_1A!$G:$G,MATCH($C39,B_SZV_1A!$F:$F,0)) -> #N/A | AS39: =COUNTIF(B_SZV_1A!$AZ$3:$AZ$1499,$D39) -> 0 | AT39: =SUMIF(B_SZV_1A!$AZ$3:$AZ$1499,$D39,B_SZV_1A!$CH$3:$CH$1499) -> 0 | AU39: =SUMIF(B_SZV_1A!$AZ:$AZ,$D39,B_SZV_1A!$CI:$CI) -> 0 | AV39: =SUMIF(B_SZV_1A!$AZ:$AZ,$D39,B_SZV_1A!$CI:$CI) -> 0
A40: 1196 | B40: DRV_S_231 | C40: 22-07339-1-001-01-06 | D40: 2703 | E40: Aszófő Község Önkormányzata | F40: Aszófő | G40: =IF(ISNA($AR40),"Nincs rögzítve!",IF(AU40=0,"Hiányzik a rövidtávú terv!",IF(AV40=0,"Hiányzik a hosszútávú terv!",IF(AS40=AT40,"Kitöltés rendben!",IF(AS40<>AT40,"Kitöltési hiba!","Kitöltési hiba!"))))) -> Nincs rögzítve! | I40: =J40+K40 -> 0 | J40: =SUMIF(B_SZV_1A!$F:$F,$C40,B_SZV_1A!$N:$N) -> 0 | K40: =SUMIF(B_SZV_1A!$F:$F,$C40,B_SZV_1A!$O:$O) -> 0 | L40: =SUMIF(B_SZV_1A!$F:$F,$C40,B_SZV_1A!$P:$P) -> 0 | N40: =SUMIF(B_SZV_1A!$F:$F,$C40,B_SZV_1A!S:S) -> 0 | O40: =SUMIF(B_SZV_1A!$F:$F,$C40,B_SZV_1A!T:T) -> 0 | P40: =SUMIF(B_SZV_1A!$F:$F,$C40,B_SZV_1A!U:U) -> 0 | Q40: =SUMIF(B_SZV_1A!$F:$F,$C40,B_SZV_1A!V:V) -> 0 | R40: =SUMIF(B_SZV_1A!$F:$F,$C40,B_SZV_1A!W:W) -> 0 | S40: =SUMIF(B_SZV_1A!$F:$F,$C40,B_SZV_1A!X:X) -> 0 | T40: =SUMIF(B_SZV_1A!$F:$F,$C40,B_SZV_1A!Y:Y) -> 0 | U40: =SUMIF(B_SZV_1A!$F:$F,$C40,B_SZV_1A!Z:Z) -> 0 | V40: =SUMIF(B_SZV_1A!$F:$F,$C40,B_SZV_1A!AA:AA) -> 0 | W40: =SUMIF(B_SZV_1A!$F:$F,$C40,B_SZV_1A!AB:AB) -> 0 | X40: =SUMIF(B_SZV_1A!$F:$F,$C40,B_SZV_1A!AC:AC) -> 0 | Y40: =SUM(N40:X40) -> 0 | AA40: =SUMIF(B_SZV_1A!$F:$F,$C40,B_SZV_1A!AG:AG) -> 0 | AB40: =SUMIF(B_SZV_1A!$F:$F,$C40,B_SZV_1A!AH:AH) -> 0 | AC40: =SUMIF(B_SZV_1A!$F:$F,$C40,B_SZV_1A!AI:AI) -> 0 | AD40: =SUMIF(B_SZV_1A!$F:$F,$C40,B_SZV_1A!AJ:AJ) -> 0 | AE40: =SUMIF(B_SZV_1A!$F:$F,$C40,B_SZV_1A!AK:AK) -> 0 | AF40: =SUMIF(B_SZV_1A!$F:$F,$C40,B_SZV_1A!AL:AL) -> 0 | AG40: =SUMIF(B_SZV_1A!$F:$F,$C40,B_SZV_1A!AM:AM) -> 0 | AH40: =SUMIF(B_SZV_1A!$F:$F,$C40,B_SZV_1A!AN:AN) -> 0 | AI40: =SUMIF(B_SZV_1A!$F:$F,$C40,B_SZV_1A!AO:AO) -> 0 | AJ40: =SUMIF(B_SZV_1A!$F:$F,$C40,B_SZV_1A!AP:AP) -> 0 | AK40: =SUMIF(B_SZV_1A!$F:$F,$C40,B_SZV_1A!AQ:AQ) -> 0 | AL40: =SUM(AA40:AK40) -> 0 | AR40: =INDEX(B_SZV_1A!$G:$G,MATCH($C40,B_SZV_1A!$F:$F,0)) -> #N/A | AS40: =COUNTIF(B_SZV_1A!$AZ$3:$AZ$1499,$D40) -> 0 | AT40: =SUMIF(B_SZV_1A!$AZ$3:$AZ$1499,$D40,B_SZV_1A!$CH$3:$CH$1499) -> 0 | AU40: =SUMIF(B_SZV_1A!$AZ:$AZ,$D40,B_SZV_1A!$CI:$CI) -> 0 | AV40: =SUMIF(B_SZV_1A!$AZ:$AZ,$D40,B_SZV_1A!$CI:$CI) -> 0
A41: 1198 | B41: DRV_S_233 | C41: 22-10092-1-001-01-15 | D41: 2705 | E41: Örvényes Község Önkormányzata | F41: Örvényes | G41: =IF(ISNA($AR41),"Nincs rögzítve!",IF(AU41=0,"Hiányzik a rövidtávú terv!",IF(AV41=0,"Hiányzik a hosszútávú terv!",IF(AS41=AT41,"Kitöltés rendben!",IF(AS41<>AT41,"Kitöltési hiba!","Kitöltési hiba!"))))) -> Nincs rögzítve! | I41: =J41+K41 -> 0 | J41: =SUMIF(B_SZV_1A!$F:$F,$C41,B_SZV_1A!$N:$N) -> 0 | K41: =SUMIF(B_SZV_1A!$F:$F,$C41,B_SZV_1A!$O:$O) -> 0 | L41: =SUMIF(B_SZV_1A!$F:$F,$C41,B_SZV_1A!$P:$P) -> 0 | N41: =SUMIF(B_SZV_1A!$F:$F,$C41,B_SZV_1A!S:S) -> 0 | O41: =SUMIF(B_SZV_1A!$F:$F,$C41,B_SZV_1A!T:T) -> 0 | P41: =SUMIF(B_SZV_1A!$F:$F,$C41,B_SZV_1A!U:U) -> 0 | Q41: =SUMIF(B_SZV_1A!$F:$F,$C41,B_SZV_1A!V:V) -> 0 | R41: =SUMIF(B_SZV_1A!$F:$F,$C41,B_SZV_1A!W:W) -> 0 | S41: =SUMIF(B_SZV_1A!$F:$F,$C41,B_SZV_1A!X:X) -> 0 | T41: =SUMIF(B_SZV_1A!$F:$F,$C41,B_SZV_1A!Y:Y) -> 0 | U41: =SUMIF(B_SZV_1A!$F:$F,$C41,B_SZV_1A!Z:Z) -> 0 | V41: =SUMIF(B_SZV_1A!$F:$F,$C41,B_SZV_1A!AA:AA) -> 0 | W41: =SUMIF(B_SZV_1A!$F:$F,$C41,B_SZV_1A!AB:AB) -> 0 | X41: =SUMIF(B_SZV_1A!$F:$F,$C41,B_SZV_1A!AC:AC) -> 0 | Y41: =SUM(N41:X41) -> 0 | AA41: =SUMIF(B_SZV_1A!$F:$F,$C41,B_SZV_1A!AG:AG) -> 0 | AB41: =SUMIF(B_SZV_1A!$F:$F,$C41,B_SZV_1A!AH:AH) -> 0 | AC41: =SUMIF(B_SZV_1A!$F:$F,$C41,B_SZV_1A!AI:AI) -> 0 | AD41: =SUMIF(B_SZV_1A!$F:$F,$C41,B_SZV_1A!AJ:AJ) -> 0 | AE41: =SUMIF(B_SZV_1A!$F:$F,$C41,B_SZV_1A!AK:AK) -> 0 | AF41: =SUMIF(B_SZV_1A!$F:$F,$C41,B_SZV_1A!AL:AL) -> 0 | AG41: =SUMIF(B_SZV_1A!$F:$F,$C41,B_SZV_1A!AM:AM) -> 0 | AH41: =SUMIF(B_SZV_1A!$F:$F,$C41,B_SZV_1A!AN:AN) -> 0 | AI41: =SUMIF(B_SZV_1A!$F:$F,$C41,B_SZV_1A!AO:AO) -> 0 | AJ41: =SUMIF(B_SZV_1A!$F:$F,$C41,B_SZV_1A!AP:AP) -> 0 | AK41: =SUMIF(B_SZV_1A!$F:$F,$C41,B_SZV_1A!AQ:AQ) -> 0 | AL41: =SUM(AA41:AK41) -> 0 | AR41: =INDEX(B_SZV_1A!$G:$G,MATCH($C41,B_SZV_1A!$F:$F,0)) -> #N/A | AS41: =COUNTIF(B_SZV_1A!$AZ$3:$AZ$1499,$D41) -> 0 | AT41: =SUMIF(B_SZV_1A!$AZ$3:$AZ$1499,$D41,B_SZV_1A!$CH$3:$CH$1499) -> 0 | AU41: =SUMIF(B_SZV_1A!$AZ:$AZ,$D41,B_SZV_1A!$CI:$CI) -> 0 | AV41: =SUMIF(B_SZV_1A!$AZ:$AZ,$D41,B_SZV_1A!$CI:$CI) -> 0
A42: 1201 | B42: DRV_S_232 | C42: 22-15565-1-001-01-13 | D42: 2707 | E42: Balatonudvari Község Önkormányzata | F42: Balatonudvari | G42: =IF(ISNA($AR42),"Nincs rögzítve!",IF(AU42=0,"Hiányzik a rövidtávú terv!",IF(AV42=0,"Hiányzik a hosszútávú terv!",IF(AS42=AT42,"Kitöltés rendben!",IF(AS42<>AT42,"Kitöltési hiba!","Kitöltési hiba!"))))) -> Nincs rögzítve! | I42: =J42+K42 -> 0 | J42: =SUMIF(B_SZV_1A!$F:$F,$C42,B_SZV_1A!$N:$N) -> 0 | K42: =SUMIF(B_SZV_1A!$F:$F,$C42,B_SZV_1A!$O:$O) -> 0 | L42: =SUMIF(B_SZV_1A!$F:$F,$C42,B_SZV_1A!$P:$P) -> 0 | N42: =SUMIF(B_SZV_1A!$F:$F,$C42,B_SZV_1A!S:S) -> 0 | O42: =SUMIF(B_SZV_1A!$F:$F,$C42,B_SZV_1A!T:T) -> 0 | P42: =SUMIF(B_SZV_1A!$F:$F,$C42,B_SZV_1A!U:U) -> 0 | Q42: =SUMIF(B_SZV_1A!$F:$F,$C42,B_SZV_1A!V:V) -> 0 | R42: =SUMIF(B_SZV_1A!$F:$F,$C42,B_SZV_1A!W:W) -> 0 | S42: =SUMIF(B_SZV_1A!$F:$F,$C42,B_SZV_1A!X:X) -> 0 | T42: =SUMIF(B_SZV_1A!$F:$F,$C42,B_SZV_1A!Y:Y) -> 0 | U42: =SUMIF(B_SZV_1A!$F:$F,$C42,B_SZV_1A!Z:Z) -> 0 | V42: =SUMIF(B_SZV_1A!$F:$F,$C42,B_SZV_1A!AA:AA) -> 0 | W42: =SUMIF(B_SZV_1A!$F:$F,$C42,B_SZV_1A!AB:AB) -> 0 | X42: =SUMIF(B_SZV_1A!$F:$F,$C42,B_SZV_1A!AC:AC) -> 0 | Y42: =SUM(N42:X42) -> 0 | AA42: =SUMIF(B_SZV_1A!$F:$F,$C42,B_SZV_1A!AG:AG) -> 0 | AB42: =SUMIF(B_SZV_1A!$F:$F,$C42,B_SZV_1A!AH:AH) -> 0 | AC42: =SUMIF(B_SZV_1A!$F:$F,$C42,B_SZV_1A!AI:AI) -> 0 | AD42: =SUMIF(B_SZV_1A!$F:$F,$C42,B_SZV_1A!AJ:AJ) -> 0 | AE42: =SUMIF(B_SZV_1A!$F:$F,$C42,B_SZV_1A!AK:AK) -> 0 | AF42: =SUMIF(B_SZV_1A!$F:$F,$C42,B_SZV_1A!AL:AL) -> 0 | AG42: =SUMIF(B_SZV_1A!$F:$F,$C42,B_SZV_1A!AM:AM) -> 0 | AH42: =SUMIF(B_SZV_1A!$F:$F,$C42,B_SZV_1A!AN:AN) -> 0 | AI42: =SUMIF(B_SZV_1A!$F:$F,$C42,B_SZV_1A!AO:AO) -> 0 | AJ42: =SUMIF(B_SZV_1A!$F:$F,$C42,B_SZV_1A!AP:AP) -> 0 | AK42: =SUMIF(B_SZV_1A!$F:$F,$C42,B_SZV_1A!AQ:AQ) -> 0 | AL42: =SUM(AA42:AK42) -> 0 | AR42: =INDEX(B_SZV_1A!$G:$G,MATCH($C42,B_SZV_1A!$F:$F,0)) -> #N/A | AS42: =COUNTIF(B_SZV_1A!$AZ$3:$AZ$1499,$D42) -> 0 | AT42: =SUMIF(B_SZV_1A!$AZ$3:$AZ$1499,$D42,B_SZV_1A!$CH$3:$CH$1499) -> 0 | AU42: =SUMIF(B_SZV_1A!$AZ:$AZ,$D42,B_SZV_1A!$CI:$CI) -> 0 | AV42: =SUMIF(B_SZV_1A!$AZ:$AZ,$D42,B_SZV_1A!$CI:$CI) -> 0
A43: 1203 | B43: Paloznak szennyvízelvezető víziközmű-rendszer | C43: 22-17011-1-001-02-01 | D43: 2709 | E43: Paloznak Község Önkormányzata | F43: Paloznak | G43: =IF(ISNA($AR43),"Nincs rögzítve!",IF(AU43=0,"Hiányzik a rövidtávú terv!",IF(AV43=0,"Hiányzik a hosszútávú terv!",IF(AS43=AT43,"Kitöltés rendben!",IF(AS43<>AT43,"Kitöltési hiba!","Kitöltési hiba!"))))) -> Nincs rögzítve! | I43: =J43+K43 -> 0 | J43: =SUMIF(B_SZV_1A!$F:$F,$C43,B_SZV_1A!$N:$N) -> 0 | K43: =SUMIF(B_SZV_1A!$F:$F,$C43,B_SZV_1A!$O:$O) -> 0 | L43: =SUMIF(B_SZV_1A!$F:$F,$C43,B_SZV_1A!$P:$P) -> 0 | N43: =SUMIF(B_SZV_1A!$F:$F,$C43,B_SZV_1A!S:S) -> 0 | O43: =SUMIF(B_SZV_1A!$F:$F,$C43,B_SZV_1A!T:T) -> 0 | P43: =SUMIF(B_SZV_1A!$F:$F,$C43,B_SZV_1A!U:U) -> 0 | Q43: =SUMIF(B_SZV_1A!$F:$F,$C43,B_SZV_1A!V:V) -> 0 | R43: =SUMIF(B_SZV_1A!$F:$F,$C43,B_SZV_1A!W:W) -> 0 | S43: =SUMIF(B_SZV_1A!$F:$F,$C43,B_SZV_1A!X:X) -> 0 | T43: =SUMIF(B_SZV_1A!$F:$F,$C43,B_SZV_1A!Y:Y) -> 0 | U43: =SUMIF(B_SZV_1A!$F:$F,$C43,B_SZV_1A!Z:Z) -> 0 | V43: =SUMIF(B_SZV_1A!$F:$F,$C43,B_SZV_1A!AA:AA) -> 0 | W43: =SUMIF(B_SZV_1A!$F:$F,$C43,B_SZV_1A!AB:AB) -> 0 | X43: =SUMIF(B_SZV_1A!$F:$F,$C43,B_SZV_1A!AC:AC) -> 0 | Y43: =SUM(N43:X43) -> 0 | AA43: =SUMIF(B_SZV_1A!$F:$F,$C43,B_SZV_1A!AG:AG) -> 0 | AB43: =SUMIF(B_SZV_1A!$F:$F,$C43,B_SZV_1A!AH:AH) -> 0 | AC43: =SUMIF(B_SZV_1A!$F:$F,$C43,B_SZV_1A!AI:AI) -> 0 | AD43: =SUMIF(B_SZV_1A!$F:$F,$C43,B_SZV_1A!AJ:AJ) -> 0 | AE43: =SUMIF(B_SZV_1A!$F:$F,$C43,B_SZV_1A!AK:AK) -> 0 | AF43: =SUMIF(B_SZV_1A!$F:$F,$C43,B_SZV_1A!AL:AL) -> 0 | AG43: =SUMIF(B_SZV_1A!$F:$F,$C43,B_SZV_1A!AM:AM) -> 0 | AH43: =SUMIF(B_SZV_1A!$F:$F,$C43,B_SZV_1A!AN:AN) -> 0 | AI43: =SUMIF(B_SZV_1A!$F:$F,$C43,B_SZV_1A!AO:AO) -> 0 | AJ43: =SUMIF(B_SZV_1A!$F:$F,$C43,B_SZV_1A!AP:AP) -> 0 | AK43: =SUMIF(B_SZV_1A!$F:$F,$C43,B_SZV_1A!AQ:AQ) -> 0 | AL43: =SUM(AA43:AK43) -> 0 | AR43: =INDEX(B_SZV_1A!$G:$G,MATCH($C43,B_SZV_1A!$F:$F,0)) -> #N/A | AS43: =COUNTIF(B_SZV_1A!$AZ$3:$AZ$1499,$D43) -> 0 | AT43: =SUMIF(B_SZV_1A!$AZ$3:$AZ$1499,$D43,B_SZV_1A!$CH$3:$CH$1499) -> 0 | AU43: =SUMIF(B_SZV_1A!$AZ:$AZ,$D43,B_SZV_1A!$CI:$CI) -> 0 | AV43: =SUMIF(B_SZV_1A!$AZ:$AZ,$D43,B_SZV_1A!$CI:$CI) -> 0
A44: 1208 | B44: DRV_S_228 | C44: 22-23454-1-001-01-12 | D44: 2715 | E44: Kővágóörs Község Önkormányzata | F44: Kővágóörs | G44: =IF(ISNA($AR44),"Nincs rögzítve!",IF(AU44=0,"Hiányzik a rövidtávú terv!",IF(AV44=0,"Hiányzik a hosszútávú terv!",IF(AS44=AT44,"Kitöltés rendben!",IF(AS44<>AT44,"Kitöltési hiba!","Kitöltési hiba!"))))) -> Nincs rögzítve! | I44: =J44+K44 -> 0 | J44: =SUMIF(B_SZV_1A!$F:$F,$C44,B_SZV_1A!$N:$N) -> 0 | K44: =SUMIF(B_SZV_1A!$F:$F,$C44,B_SZV_1A!$O:$O) -> 0 | L44: =SUMIF(B_SZV_1A!$F:$F,$C44,B_SZV_1A!$P:$P) -> 0 | N44: =SUMIF(B_SZV_1A!$F:$F,$C44,B_SZV_1A!S:S) -> 0 | O44: =SUMIF(B_SZV_1A!$F:$F,$C44,B_SZV_1A!T:T) -> 0 | P44: =SUMIF(B_SZV_1A!$F:$F,$C44,B_SZV_1A!U:U) -> 0 | Q44: =SUMIF(B_SZV_1A!$F:$F,$C44,B_SZV_1A!V:V) -> 0 | R44: =SUMIF(B_SZV_1A!$F:$F,$C44,B_SZV_1A!W:W) -> 0 | S44: =SUMIF(B_SZV_1A!$F:$F,$C44,B_SZV_1A!X:X) -> 0 | T44: =SUMIF(B_SZV_1A!$F:$F,$C44,B_SZV_1A!Y:Y) -> 0 | U44: =SUMIF(B_SZV_1A!$F:$F,$C44,B_SZV_1A!Z:Z) -> 0 | V44: =SUMIF(B_SZV_1A!$F:$F,$C44,B_SZV_1A!AA:AA) -> 0 | W44: =SUMIF(B_SZV_1A!$F:$F,$C44,B_SZV_1A!AB:AB) -> 0 | X44: =SUMIF(B_SZV_1A!$F:$F,$C44,B_SZV_1A!AC:AC) -> 0 | Y44: =SUM(N44:X44) -> 0 | AA44: =SUMIF(B_SZV_1A!$F:$F,$C44,B_SZV_1A!AG:AG) -> 0 | AB44: =SUMIF(B_SZV_1A!$F:$F,$C44,B_SZV_1A!AH:AH) -> 0 | AC44: =SUMIF(B_SZV_1A!$F:$F,$C44,B_SZV_1A!AI:AI) -> 0 | AD44: =SUMIF(B_SZV_1A!$F:$F,$C44,B_SZV_1A!AJ:AJ) -> 0 | AE44: =SUMIF(B_SZV_1A!$F:$F,$C44,B_SZV_1A!AK:AK) -> 0 | AF44: =SUMIF(B_SZV_1A!$F:$F,$C44,B_SZV_1A!AL:AL) -> 0 | AG44: =SUMIF(B_SZV_1A!$F:$F,$C44,B_SZV_1A!AM:AM) -> 0 | AH44: =SUMIF(B_SZV_1A!$F:$F,$C44,B_SZV_1A!AN:AN) -> 0 | AI44: =SUMIF(B_SZV_1A!$F:$F,$C44,B_SZV_1A!AO:AO) -> 0 | AJ44: =SUMIF(B_SZV_1A!$F:$F,$C44,B_SZV_1A!AP:AP) -> 0 | AK44: =SUMIF(B_SZV_1A!$F:$F,$C44,B_SZV_1A!AQ:AQ) -> 0 | AL44: =SUM(AA44:AK44) -> 0 | AR44: =INDEX(B_SZV_1A!$G:$G,MATCH($C44,B_SZV_1A!$F:$F,0)) -> #N/A | AS44: =COUNTIF(B_SZV_1A!$AZ$3:$AZ$1499,$D44) -> 0 | AT44: =SUMIF(B_SZV_1A!$AZ$3:$AZ$1499,$D44,B_SZV_1A!$CH$3:$CH$1499) -> 0 | AU44: =SUMIF(B_SZV_1A!$AZ:$AZ,$D44,B_SZV_1A!$CI:$CI) -> 0 | AV44: =SUMIF(B_SZV_1A!$AZ:$AZ,$D44,B_SZV_1A!$CI:$CI) -> 0
A45: 1210 | B45: DRV_S_237 | C45: 22-24369-1-001-01-06 | D45: 2717 | E45: Felsőörs Község Önkormányzata | F45: Felsőörs | G45: =IF(ISNA($AR45),"Nincs rögzítve!",IF(AU45=0,"Hiányzik a rövidtávú terv!",IF(AV45=0,"Hiányzik a hosszútávú terv!",IF(AS45=AT45,"Kitöltés rendben!",IF(AS45<>AT45,"Kitöltési hiba!","Kitöltési hiba!"))))) -> Nincs rögzítve! | I45: =J45+K45 -> 0 | J45: =SUMIF(B_SZV_1A!$F:$F,$C45,B_SZV_1A!$N:$N) -> 0 | K45: =SUMIF(B_SZV_1A!$F:$F,$C45,B_SZV_1A!$O:$O) -> 0 | L45: =SUMIF(B_SZV_1A!$F:$F,$C45,B_SZV_1A!$P:$P) -> 0 | N45: =SUMIF(B_SZV_1A!$F:$F,$C45,B_SZV_1A!S:S) -> 0 | O45: =SUMIF(B_SZV_1A!$F:$F,$C45,B_SZV_1A!T:T) -> 0 | P45: =SUMIF(B_SZV_1A!$F:$F,$C45,B_SZV_1A!U:U) -> 0 | Q45: =SUMIF(B_SZV_1A!$F:$F,$C45,B_SZV_1A!V:V) -> 0 | R45: =SUMIF(B_SZV_1A!$F:$F,$C45,B_SZV_1A!W:W) -> 0 | S45: =SUMIF(B_SZV_1A!$F:$F,$C45,B_SZV_1A!X:X) -> 0 | T45: =SUMIF(B_SZV_1A!$F:$F,$C45,B_SZV_1A!Y:Y) -> 0 | U45: =SUMIF(B_SZV_1A!$F:$F,$C45,B_SZV_1A!Z:Z) -> 0 | V45: =SUMIF(B_SZV_1A!$F:$F,$C45,B_SZV_1A!AA:AA) -> 0 | W45: =SUMIF(B_SZV_1A!$F:$F,$C45,B_SZV_1A!AB:AB) -> 0 | X45: =SUMIF(B_SZV_1A!$F:$F,$C45,B_SZV_1A!AC:AC) -> 0 | Y45: =SUM(N45:X45) -> 0 | AA45: =SUMIF(B_SZV_1A!$F:$F,$C45,B_SZV_1A!AG:AG) -> 0 | AB45: =SUMIF(B_SZV_1A!$F:$F,$C45,B_SZV_1A!AH:AH) -> 0 | AC45: =SUMIF(B_SZV_1A!$F:$F,$C45,B_SZV_1A!AI:AI) -> 0 | AD45: =SUMIF(B_SZV_1A!$F:$F,$C45,B_SZV_1A!AJ:AJ) -> 0 | AE45: =SUMIF(B_SZV_1A!$F:$F,$C45,B_SZV_1A!AK:AK) -> 0 | AF45: =SUMIF(B_SZV_1A!$F:$F,$C45,B_SZV_1A!AL:AL) -> 0 | AG45: =SUMIF(B_SZV_1A!$F:$F,$C45,B_SZV_1A!AM:AM) -> 0 | AH45: =SUMIF(B_SZV_1A!$F:$F,$C45,B_SZV_1A!AN:AN) -> 0 | AI45: =SUMIF(B_SZV_1A!$F:$F,$C45,B_SZV_1A!AO:AO) -> 0 | AJ45: =SUMIF(B_SZV_1A!$F:$F,$C45,B_SZV_1A!AP:AP) -> 0 | AK45: =SUMIF(B_SZV_1A!$F:$F,$C45,B_SZV_1A!AQ:AQ) -> 0 | AL45: =SUM(AA45:AK45) -> 0 | AR45: =INDEX(B_SZV_1A!$G:$G,MATCH($C45,B_SZV_1A!$F:$F,0)) -> #N/A | AS45: =COUNTIF(B_SZV_1A!$AZ$3:$AZ$1499,$D45) -> 0 | AT45: =SUMIF(B_SZV_1A!$AZ$3:$AZ$1499,$D45,B_SZV_1A!$CH$3:$CH$1499) -> 0 | AU45: =SUMIF(B_SZV_1A!$AZ:$AZ,$D45,B_SZV_1A!$CI:$CI) -> 0 | AV45: =SUMIF(B_SZV_1A!$AZ:$AZ,$D45,B_SZV_1A!$CI:$CI) -> 0
A46: 1211 | B46: DRV_S_230 | C46: 22-25308-1-001-01-11 | D46: 2718 | E46: Balatonakali Község Önkormányzata | F46: Balatonakali | G46: =IF(ISNA($AR46),"Nincs rögzítve!",IF(AU46=0,"Hiányzik a rövidtávú terv!",IF(AV46=0,"Hiányzik a hosszútávú terv!",IF(AS46=AT46,"Kitöltés rendben!",IF(AS46<>AT46,"Kitöltési hiba!","Kitöltési hiba!"))))) -> Kitöltés rendben! | I46: =J46+K46 -> 1500 | J46: =SUMIF(B_SZV_1A!$F:$F,$C46,B_SZV_1A!$N:$N) -> 0 | K46: =SUMIF(B_SZV_1A!$F:$F,$C46,B_SZV_1A!$O:$O) -> 1500 | L46: =SUMIF(B_SZV_1A!$F:$F,$C46,B_SZV_1A!$P:$P) -> 0 | N46: =SUMIF(B_SZV_1A!$F:$F,$C46,B_SZV_1A!S:S) -> 0 | O46: =SUMIF(B_SZV_1A!$F:$F,$C46,B_SZV_1A!T:T) -> 0 | P46: =SUMIF(B_SZV_1A!$F:$F,$C46,B_SZV_1A!U:U) -> 0 | Q46: =SUMIF(B_SZV_1A!$F:$F,$C46,B_SZV_1A!V:V) -> 0 | R46: =SUMIF(B_SZV_1A!$F:$F,$C46,B_SZV_1A!W:W) -> 0 | S46: =SUMIF(B_SZV_1A!$F:$F,$C46,B_SZV_1A!X:X) -> 0 | T46: =SUMIF(B_SZV_1A!$F:$F,$C46,B_SZV_1A!Y:Y) -> 0 | U46: =SUMIF(B_SZV_1A!$F:$F,$C46,B_SZV_1A!Z:Z) -> 0 | V46: =SUMIF(B_SZV_1A!$F:$F,$C46,B_SZV_1A!AA:AA) -> 0 | W46: =SUMIF(B_SZV_1A!$F:$F,$C46,B_SZV_1A!AB:AB) -> 0 | X46: =SUMIF(B_SZV_1A!$F:$F,$C46,B_SZV_1A!AC:AC) -> 0 | Y46: =SUM(N46:X46) -> 0 | AA46: =SUMIF(B_SZV_1A!$F:$F,$C46,B_SZV_1A!AG:AG) -> 0 | AB46: =SUMIF(B_SZV_1A!$F:$F,$C46,B_SZV_1A!AH:AH) -> 0 | AC46: =SUMIF(B_SZV_1A!$F:$F,$C46,B_SZV_1A!AI:AI) -> 0 | AD46: =SUMIF(B_SZV_1A!$F:$F,$C46,B_SZV_1A!AJ:AJ) -> 0 | AE46: =SUMIF(B_SZV_1A!$F:$F,$C46,B_SZV_1A!AK:AK) -> 0 | AF46: =SUMIF(B_SZV_1A!$F:$F,$C46,B_SZV_1A!AL:AL) -> 0 | AG46: =SUMIF(B_SZV_1A!$F:$F,$C46,B_SZV_1A!AM:AM) -> 0 | AH46: =SUMIF(B_SZV_1A!$F:$F,$C46,B_SZV_1A!AN:AN) -> 0 | AI46: =SUMIF(B_SZV_1A!$F:$F,$C46,B_SZV_1A!AO:AO) -> 0 | AJ46: =SUMIF(B_SZV_1A!$F:$F,$C46,B_SZV_1A!AP:AP) -> 0 | AK46: =SUMIF(B_SZV_1A!$F:$F,$C46,B_SZV_1A!AQ:AQ) -> 0 | AL46: =SUM(AA46:AK46) -> 0 | AR46: =INDEX(B_SZV_1A!$G:$G,MATCH($C46,B_SZV_1A!$F:$F,0)) -> DRV_S_230 | AS46: =COUNTIF(B_SZV_1A!$AZ$3:$AZ$1499,$D46) -> 2 | AT46: =SUMIF(B_SZV_1A!$AZ$3:$AZ$1499,$D46,B_SZV_1A!$CH$3:$CH$1499) -> 2 | AU46: =SUMIF(B_SZV_1A!$AZ:$AZ,$D46,B_SZV_1A!$CI:$CI) -> 1 | AV46: =SUMIF(B_SZV_1A!$AZ:$AZ,$D46,B_SZV_1A!$CI:$CI) -> 1

Sheet B_SZV_1A
B1: A | C1: B | D1: C | E1: D | F1: E/1 | G1: E/2 | H1: fx | I1: VKEFFO | J1: F | K1: G | L1: I/1 | M1: I/2 | N1: J/1 | O1: J/2 | P1: VKEFFO | S1: H/1 -- Forrás megnevezése (I. ütem) | AE1: fx | AG1: H/2 -- Forrás megnevezése (II. ütem) | AT1: fx | AV1: VKEFFO | AW1: VKEFFO | AZ1: fx | BA1: fx | BB1: fx | BC1: fx | BD1: fx | BE1: fx | BF1: fx | BG1: fx | BH1: fx | BI1: fx | BJ1: fx | BK1: fx | BL1: fx | BM1: fx | BN1: fx | BO1: fx | BP1: fx | BQ1: fx | BR1: fx | BS1: fx | BT1: fx | BU1: fx | BV1: fx | BW1: fx | BX1: fx | BY1: fx | BZ1: fx | CA1: fx | CB1: fx | CC1: fx | CD1: fx | CE1: fx | CF1: fx | CG1: fx | CH1: fx | CI1: fx | CJ1: fx
A2: Ellenőrzés | B2: Fontossági sorrend | C2: A beruházási feladat kategóriája | D2: Beruházás megnevezése | E2: Vízjogi létesítési/ elvi engedély száma (amennyiben rendelkezésre áll) | F2: Víziközmű-rendszer hivatali kódja | G2: Víziközmű-rendszer megnevezése | H2: FELADAT-AZONOSITO | I2: Ellátási terület | J2: Az érintett ellátásért felelős(ök) megnevezése | K2: Tervezett nettó költség [eFt] | L2: Megvalósítás várható időtartama - KEZDÉS | M2: Megvalósítás várható időtartama - BEFEJEZÉS | N2: A Felújítás tervezett nettó költsége a tervezési időszak ütemezése szerint [eFt] - I. ütem | O2: A Felújítás tervezett nettó költsége a tervezési időszak ütemezése szerint [eFt] - II. ütem | P2: Az EM rendelet 2. melléklet terhére elszámolni tervezett költség | Q2: Előkészítettsége | S2: Használati díj [eFt] | T2: ÉCS [eFt] | U2: Közműfejlesztési hozzájárulás [eFt] | V2: Egyéb saját forrás [eFt] | W2: Díj [eFt] | X2: VFEA - EM rendelet 1. melléklet | Y2: Egyéb állami támogatás [eFt] | Z2: Önkormányzati támogatás [eFt] | AA2: EU-s támogatás [eFt] | AB2: Egyéb támogatás [eFt] | AC2: Banki hitel, kötvénykibocsátás [eFt] | AD2: Összesítés [eFt] | AE2: Forrás (I. ütem) - ELLENŐRZÉS | AG2: Használati díj [eFt] | AH2: ÉCS [eFt] | AI2: Közműfejlesztési hozzájárulás [eFt] | AJ2: Egyéb saját forrás [eFt] | AK2: Díj [eFt] | AL2: VFEA - EM rendelet 1. melléklet | AM2: Egyéb állami támogatás [eFt] | AN2: Önkormányzati támogatás [eFt] | AO2: EU-s támogatás [eFt] | AP2: Egyéb támogatás [eFt] | AQ2: Banki hitel, kötvénykibocsátás [eFt] | AR2: Összesítés [eFt] | AS2: Forráshiányos a feladat (II. ütem)? | AT2: Forrás (II. ütem) - ELLENŐRZÉS | AV2: INDOKLÁS | AW2: MEGJEGYZÉS | AX2: Feladat sorszáma | AZ2: ISA | BA2: Indoklás hossza | BB2: Minden kitöltve? (kivéve a forrás) 1-igen;0-nem | BC2: 2027-2027: R 2027-x: RH 2028-x: H | BD2: Van rövid távú feladat | BE2: Ütem költségek hibásak? --- 1-igen; 0-nem | BF2: 1.ütem FORRÁS --- forráshiányos? 1-igen;0-nem | BG2: 1.ütem FORRÁS --- Összesítés | BH2: 1.ütem FORRÁS kitöltve? 1-igen, 0-nem | BI2: 1.ütem FORRÁS jól kitöltve? 1-igen;0-nem | BJ2: 2.ütem FORRÁS --- forráshiányos? 1-igen;0-nem | BK2: 2.ütem FORRÁS kitöltve? 1-igen, 0-nem | BL2: 2.ütem FORRÁS jól kitöltve? 1-igen;0-nem | BM2: 2.FORRÁS ütem --- Összesítés | BN2: Van feladat 1.ütem? 1-igen;0-nem | BO2: Van feladat 2.ütem? 1-igen;0-nem | BP2: 1.ütem nullás a terv? 1-igen;0-nem | BQ2: 2.ütem nullás a terv? 1-igen;0-nem | BR2: Nullás és van indoklás rövidtáv 1-igen; 0-nem | BS2: Nincs hosszútávú terv (ktg) indoklás? | BT2: Nullás és van idnoklás rövidtáv 1-igen; 0-nem | BU2: Nullás és van indoklás hosszútáv 1-igen; 0-nem | BV2: Fontossági sorrend | BW2: A felújítási feladat kategóriája | BX2: Felújítás megnevezése | BY2: Vízjogi létesítési/ elvi engedély száma (amennyiben rendelkezésre áll) | BZ2: Megvalósítás várható időtartama - KEZDÉS | CA2: Megvalósítás várható időtartama - BEFEJEZÉS | CB2: A Felújítás tervezett nettó költsége a tervezési időszak ütemezése szerint [eFt] - I. ütem | CC2: A Felújítás tervezett nettó költsége a tervezési időszak ütemezése szerint [eFt] - II. ütem | CD2: VFEA - EM rendelet 2. melléklet (fenntartására fordítandó) | CE2: Előkészítettsége | CF2: HIÁNYOS kitöltés?! | CG2: ÖSSZESÍTŐ szöveggel | CH2: Kitöltés rendben! >> 1; Egyébként >> 0 | CI2: Rövid és jó | CJ2: Hosszú és jó
